{"text_format":"1","workbook":"xlsx","n_sheets":9,"sheets":["Inputs","Breakdowns","Breakdowns_Over2000","PrizeList","Signatures","MailMerge","Bank_Table","Bank_Exhibit","Bank_Calc"],"not_rendered":{"charts":0,"images":3,"macros":1,"external_links":0,"defined_names":4,"comments":0,"pivot_tables":0},"unopened":[],"bounds":{"document_bytes":16777216,"sheet_cells":100000,"rows_first":2000,"rows_last":500,"rows_between":2000,"halvings":0,"cell_chars":16384,"cell_head_chars":4096},"cells_cut":0,"cells_raw":0,"read":"whole","date_system":"1900"}

{"sheet":"Inputs","index":0,"n_rows":20,"n_cols":6,"rows_kept":20,"cut":false,"hidden":false,"merged":[]}
[]
[]
[null,null,null,null,"Event Name:","Enter event name here…"]
[]
[]
[]
[]
[]
[]
[]
[null,"This template can be used as a starting point for your Prize Distribution and Race Signatures documents."]
[null,"These sheets are not required formats; feel free to adjust to suit your specific needs."]
[]
[null,"*","Enter event name above."]
[null,"*","The 'Breakdowns' tab contains suggested payout breakdowns for various purse levels."]
[null,"*","Enter the payout for each placing in the 'PrizeList' tab."]
[null,"*","Amounts from the 'PrizeList' tab will carry over to the 'Signatures' tab."]
[null,"*","The 'MailMerge' tab will be populated with data for label/envelope mail merges."]
[]
[null,null,"Program Version:  03/03/2014"]

{"sheet":"Breakdowns","index":1,"n_rows":132,"n_cols":24,"rows_kept":132,"cut":false,"hidden":false,"merged":[]}
[]
["Sample Payout Breakdowns"]
[null,null,null,null,null,null,null,null,null,null,null,null,null,null,null,null,null,null,null,null,null,null,null,{"$f":"\" / \"","v":" / "}]
["Total","Places","Total","1st","2nd","3rd","4th","5th","6th","7th","8th","9th","10th","11th","12th","13th","14th","15th","16th","17th","18th","19th","20th","Payout String"]
[50,2,{"$f":"SUM(D5:W5)","v":50},30,20,null,null,null,null,null,null,null,null,null,null,null,null,null,null,null,null,null,null,{"$f":"implode(D5:W5,$X$3)","v":"30 / 20"}]
[{"$f":"+A5","v":50},3,{"$f":"SUM(D6:W6)","v":50},25,15,10,null,null,null,null,null,null,null,null,null,null,null,null,null,null,null,null,null,{"$f":"implode(D6:W6,$X$3)","v":"25 / 15 / 10"}]
[75,2,75,50,25,null,null,null,null,null,null,null,null,null,null,null,null,null,null,null,null,null,null,"50 / 25"]
[{"$f":"+A7","v":75},3,75,35,25,15,null,null,null,null,null,null,null,null,null,null,null,null,null,null,null,null,null,"35 / 25 / 15"]
[{"$f":"+A8","v":75},4,75,30,20,15,10,null,null,null,null,null,null,null,null,null,null,null,null,null,null,null,null,"30 / 20 / 15 / 10"]
[100,2,100,65,35,null,null,null,null,null,null,null,null,null,null,null,null,null,null,null,null,null,null,"65 / 35"]
[{"$f":"+A10","v":100},3,100,50,30,20,null,null,null,null,null,null,null,null,null,null,null,null,null,null,null,null,null,"50 / 30 / 20"]
[{"$f":"+A11","v":100},4,100,40,30,20,10,null,null,null,null,null,null,null,null,null,null,null,null,null,null,null,null,"40 / 30 / 20 / 10"]
[{"$f":"+A12","v":100},5,100,35,25,20,10,10,null,null,null,null,null,null,null,null,null,null,null,null,null,null,null,"35 / 25 / 20 / 10 / 10"]
[125,3,125,55,40,30,null,null,null,null,null,null,null,null,null,null,null,null,null,null,null,null,null,"55 / 40 / 30"]
[{"$f":"+A14","v":125},4,125,50,35,25,15,null,null,null,null,null,null,null,null,null,null,null,null,null,null,null,null,"50 / 35 / 25 / 15"]
[{"$f":"+A15","v":125},5,125,50,30,20,15,10,null,null,null,null,null,null,null,null,null,null,null,null,null,null,null,"50 / 30 / 20 / 15 / 10"]
[150,3,150,70,50,30,null,null,null,null,null,null,null,null,null,null,null,null,null,null,null,null,null,"70 / 50 / 30"]
[{"$f":"+A17","v":150},4,150,60,40,30,20,null,null,null,null,null,null,null,null,null,null,null,null,null,null,null,null,"60 / 40 / 30 / 20"]
[{"$f":"+A18","v":150},5,150,55,35,25,20,15,null,null,null,null,null,null,null,null,null,null,null,null,null,null,null,"55 / 35 / 25 / 20 / 15"]
[{"$f":"+A19","v":150},6,150,45,35,25,20,15,10,null,null,null,null,null,null,null,null,null,null,null,null,null,null,"45 / 35 / 25 / 20 / 15 / 10"]
[175,3,175,80,55,40,null,null,null,null,null,null,null,null,null,null,null,null,null,null,null,null,null,"80 / 55 / 40"]
[175,4,175,70,50,35,20,null,null,null,null,null,null,null,null,null,null,null,null,null,null,null,null,"70 / 50 / 35 / 20"]
[{"$f":"+A22","v":175},5,175,65,45,35,20,10,null,null,null,null,null,null,null,null,null,null,null,null,null,null,null,"65 / 45 / 35 / 20 / 10"]
[{"$f":"+A23","v":175},6,175,60,40,30,20,15,10,null,null,null,null,null,null,null,null,null,null,null,null,null,null,"60 / 40 / 30 / 20 / 15 / 10"]
[200,4,200,75,55,40,30,null,null,null,null,null,null,null,null,null,null,null,null,null,null,null,null,"75 / 55 / 40 / 30"]
[{"$f":"+A25","v":200},5,200,70,50,40,25,15,null,null,null,null,null,null,null,null,null,null,null,null,null,null,null,"70 / 50 / 40 / 25 / 15"]
[{"$f":"+A26","v":200},6,200,60,45,35,25,20,15,null,null,null,null,null,null,null,null,null,null,null,null,null,null,"60 / 45 / 35 / 25 / 20 / 15"]
[{"$f":"+A26","v":200},7,200,55,40,35,25,20,15,10,null,null,null,null,null,null,null,null,null,null,null,null,null,"55 / 40 / 35 / 25 / 20 / 15 / 10"]
[{"$f":"+A27","v":200},8,200,50,40,30,25,20,15,10,10,null,null,null,null,null,null,null,null,null,null,null,null,"50 / 40 / 30 / 25 / 20 / 15 / 10 / 10"]
[225,4,225,85,60,45,35,null,null,null,null,null,null,null,null,null,null,null,null,null,null,null,null,"85 / 60 / 45 / 35"]
[{"$f":"+A30","v":225},5,225,80,55,40,30,20,null,null,null,null,null,null,null,null,null,null,null,null,null,null,null,"80 / 55 / 40 / 30 / 20"]
[{"$f":"+A31","v":225},6,225,75,50,40,30,20,10,null,null,null,null,null,null,null,null,null,null,null,null,null,null,"75 / 50 / 40 / 30 / 20 / 10"]
[{"$f":"+A31","v":225},7,225,70,50,35,25,20,15,10,null,null,null,null,null,null,null,null,null,null,null,null,null,"70 / 50 / 35 / 25 / 20 / 15 / 10"]
[{"$f":"+A32","v":225},8,225,65,45,35,25,20,15,10,10,null,null,null,null,null,null,null,null,null,null,null,null,"65 / 45 / 35 / 25 / 20 / 15 / 10 / 10"]
[250,4,250,90,70,50,40,null,null,null,null,null,null,null,null,null,null,null,null,null,null,null,null,"90 / 70 / 50 / 40"]
[{"$f":"+A35","v":250},5,250,85,60,45,35,25,null,null,null,null,null,null,null,null,null,null,null,null,null,null,null,"85 / 60 / 45 / 35 / 25"]
[{"$f":"+A36","v":250},6,250,75,55,45,35,25,15,null,null,null,null,null,null,null,null,null,null,null,null,null,null,"75 / 55 / 45 / 35 / 25 / 15"]
[{"$f":"+A36","v":250},7,250,70,50,40,30,25,20,15,null,null,null,null,null,null,null,null,null,null,null,null,null,"70 / 50 / 40 / 30 / 25 / 20 / 15"]
[{"$f":"+A37","v":250},8,250,65,50,40,30,25,20,10,10,null,null,null,null,null,null,null,null,null,null,null,null,"65 / 50 / 40 / 30 / 25 / 20 / 10 / 10"]
[275,5,275,90,65,50,40,30,null,null,null,null,null,null,null,null,null,null,null,null,null,null,null,"90 / 65 / 50 / 40 / 30"]
[{"$f":"+A40","v":275},6,275,75,60,50,40,30,20,null,null,null,null,null,null,null,null,null,null,null,null,null,null,"75 / 60 / 50 / 40 / 30 / 20"]
[{"$f":"+A40","v":275},7,275,70,50,45,35,30,25,20,null,null,null,null,null,null,null,null,null,null,null,null,null,"70 / 50 / 45 / 35 / 30 / 25 / 20"]
[{"$f":"+A41","v":275},8,275,65,50,40,35,30,25,20,10,null,null,null,null,null,null,null,null,null,null,null,null,"65 / 50 / 40 / 35 / 30 / 25 / 20 / 10"]
[300,5,300,95,70,55,45,35,null,null,null,null,null,null,null,null,null,null,null,null,null,null,null,"95 / 70 / 55 / 45 / 35"]
[{"$f":"+A44","v":300},6,300,85,70,50,40,30,25,null,null,null,null,null,null,null,null,null,null,null,null,null,null,"85 / 70 / 50 / 40 / 30 / 25"]
[{"$f":"+A44","v":300},7,300,80,60,50,35,30,25,20,null,null,null,null,null,null,null,null,null,null,null,null,null,"80 / 60 / 50 / 35 / 30 / 25 / 20"]
[{"$f":"+A45","v":300},8,300,75,55,45,35,30,25,20,15,null,null,null,null,null,null,null,null,null,null,null,null,"75 / 55 / 45 / 35 / 30 / 25 / 20 / 15"]
[{"$f":"+A46","v":300},10,300,75,55,40,35,30,20,15,10,10,10,null,null,null,null,null,null,null,null,null,null,"75 / 55 / 40 / 35 / 30 / 20 / 15 / 10 / 10 / 10"]
[325,5,325,100,75,60,50,40,null,null,null,null,null,null,null,null,null,null,null,null,null,null,null,"100 / 75 / 60 / 50 / 40"]
[{"$f":"+A49","v":325},6,325,95,70,55,45,35,25,null,null,null,null,null,null,null,null,null,null,null,null,null,null,"95 / 70 / 55 / 45 / 35 / 25"]
[{"$f":"+A49","v":325},7,325,85,65,50,40,35,30,20,null,null,null,null,null,null,null,null,null,null,null,null,null,"85 / 65 / 50 / 40 / 35 / 30 / 20"]
[{"$f":"+A50","v":325},8,325,85,65,50,35,30,25,20,15,null,null,null,null,null,null,null,null,null,null,null,null,"85 / 65 / 50 / 35 / 30 / 25 / 20 / 15"]
[{"$f":"+A51","v":325},10,325,75,60,45,35,30,25,20,15,10,10,null,null,null,null,null,null,null,null,null,null,"75 / 60 / 45 / 35 / 30 / 25 / 20 / 15 / 10 / 10"]
[350,5,350,105,80,65,55,45,null,null,null,null,null,null,null,null,null,null,null,null,null,null,null,"105 / 80 / 65 / 55 / 45"]
[{"$f":"+A54","v":350},6,350,100,75,60,50,40,25,null,null,null,null,null,null,null,null,null,null,null,null,null,null,"100 / 75 / 60 / 50 / 40 / 25"]
[{"$f":"+A54","v":350},7,350,95,70,55,45,35,30,20,null,null,null,null,null,null,null,null,null,null,null,null,null,"95 / 70 / 55 / 45 / 35 / 30 / 20"]
[{"$f":"+A55","v":350},8,350,85,70,55,45,35,25,20,15,null,null,null,null,null,null,null,null,null,null,null,null,"85 / 70 / 55 / 45 / 35 / 25 / 20 / 15"]
[{"$f":"+A56","v":350},10,350,80,60,50,40,35,30,20,15,10,10,null,null,null,null,null,null,null,null,null,null,"80 / 60 / 50 / 40 / 35 / 30 / 20 / 15 / 10 / 10"]
[375,5,375,110,85,70,60,50,null,null,null,null,null,null,null,null,null,null,null,null,null,null,null,"110 / 85 / 70 / 60 / 50"]
[{"$f":"+A59","v":375},6,375,105,80,65,55,45,25,null,null,null,null,null,null,null,null,null,null,null,null,null,null,"105 / 80 / 65 / 55 / 45 / 25"]
[{"$f":"+A59","v":375},7,375,100,75,60,50,40,30,20,null,null,null,null,null,null,null,null,null,null,null,null,null,"100 / 75 / 60 / 50 / 40 / 30 / 20"]
[{"$f":"+A60","v":375},8,375,95,75,55,45,35,30,25,15,null,null,null,null,null,null,null,null,null,null,null,null,"95 / 75 / 55 / 45 / 35 / 30 / 25 / 15"]
[{"$f":"+A61","v":375},10,375,85,65,50,40,35,30,25,20,15,10,null,null,null,null,null,null,null,null,null,null,"85 / 65 / 50 / 40 / 35 / 30 / 25 / 20 / 15 / 10"]
[400,5,400,115,90,75,65,55,null,null,null,null,null,null,null,null,null,null,null,null,null,null,null,"115 / 90 / 75 / 65 / 55"]
[{"$f":"+A64","v":400},6,400,110,85,70,60,50,25,null,null,null,null,null,null,null,null,null,null,null,null,null,null,"110 / 85 / 70 / 60 / 50 / 25"]
[{"$f":"+A64","v":400},7,400,95,80,65,55,45,35,25,null,null,null,null,null,null,null,null,null,null,null,null,null,"95 / 80 / 65 / 55 / 45 / 35 / 25"]
[{"$f":"+A65","v":400},8,400,95,75,60,50,40,30,25,25,null,null,null,null,null,null,null,null,null,null,null,null,"95 / 75 / 60 / 50 / 40 / 30 / 25 / 25"]
[{"$f":"+A66","v":400},10,400,85,70,60,50,40,30,20,15,15,15,null,null,null,null,null,null,null,null,null,null,"85 / 70 / 60 / 50 / 40 / 30 / 20 / 15 / 15 / 15"]
[450,5,450,140,110,85,65,50,null,null,null,null,null,null,null,null,null,null,null,null,null,null,null,"140 / 110 / 85 / 65 / 50"]
[{"$f":"+A69","v":450},6,{"$f":"SUM(D70:W70)","v":450},110,95,80,65,55,45,null,null,null,null,null,null,null,null,null,null,null,null,null,null,{"$f":"implode(D70:W70,$X$3)","v":"110 / 95 / 80 / 65 / 55 / 45"}]
[{"$f":"+A70","v":450},7,450,105,90,75,60,50,40,30,null,null,null,null,null,null,null,null,null,null,null,null,null,"105 / 90 / 75 / 60 / 50 / 40 / 30"]
[{"$f":"+A71","v":450},8,450,105,85,70,55,45,35,30,25,null,null,null,null,null,null,null,null,null,null,null,null,"105 / 85 / 70 / 55 / 45 / 35 / 30 / 25"]
[{"$f":"+A72","v":450},10,450,90,75,65,55,45,35,25,20,20,20,null,null,null,null,null,null,null,null,null,null,"90 / 75 / 65 / 55 / 45 / 35 / 25 / 20 / 20 / 20"]
[475,5,475,145,115,90,70,55,null,null,null,null,null,null,null,null,null,null,null,null,null,null,null,"145 / 115 / 90 / 70 / 55"]
[475,6,475,130,100,80,65,55,45,null,null,null,null,null,null,null,null,null,null,null,null,null,null,"130 / 100 / 80 / 65 / 55 / 45"]
[475,7,475,110,90,75,65,55,45,35,null,null,null,null,null,null,null,null,null,null,null,null,null,"110 / 90 / 75 / 65 / 55 / 45 / 35"]
[475,8,475,110,85,70,60,50,40,35,25,null,null,null,null,null,null,null,null,null,null,null,null,"110 / 85 / 70 / 60 / 50 / 40 / 35 / 25"]
[475,10,475,110,80,65,50,40,35,30,25,20,20,null,null,null,null,null,null,null,null,null,null,"110 / 80 / 65 / 50 / 40 / 35 / 30 / 25 / 20 / 20"]
[500,5,500,150,120,95,75,60,null,null,null,null,null,null,null,null,null,null,null,null,null,null,null,"150 / 120 / 95 / 75 / 60"]
[{"$f":"+A79","v":500},6,500,140,110,90,70,50,40,null,null,null,null,null,null,null,null,null,null,null,null,null,null,"140 / 110 / 90 / 70 / 50 / 40"]
[{"$f":"+A80","v":500},7,500,135,105,85,65,45,35,30,null,null,null,null,null,null,null,null,null,null,null,null,null,"135 / 105 / 85 / 65 / 45 / 35 / 30"]
[{"$f":"+A81","v":500},8,500,135,100,80,60,45,35,25,20,null,null,null,null,null,null,null,null,null,null,null,null,"135 / 100 / 80 / 60 / 45 / 35 / 25 / 20"]
[{"$f":"+A82","v":500},10,500,125,90,70,50,40,35,30,25,20,15,null,null,null,null,null,null,null,null,null,null,"125 / 90 / 70 / 50 / 40 / 35 / 30 / 25 / 20 / 15"]
[550,6,550,150,120,100,80,60,40,null,null,null,null,null,null,null,null,null,null,null,null,null,null,"150 / 120 / 100 / 80 / 60 / 40"]
[{"$f":"+A84","v":550},7,550,145,115,95,75,55,35,30,null,null,null,null,null,null,null,null,null,null,null,null,null,"145 / 115 / 95 / 75 / 55 / 35 / 30"]
[{"$f":"+A85","v":550},8,550,140,105,90,70,50,40,30,25,null,null,null,null,null,null,null,null,null,null,null,null,"140 / 105 / 90 / 70 / 50 / 40 / 30 / 25"]
[{"$f":"+A86","v":550},10,550,130,95,75,55,45,40,35,30,25,20,null,null,null,null,null,null,null,null,null,null,"130 / 95 / 75 / 55 / 45 / 40 / 35 / 30 / 25 / 20"]
[600,6,600,170,135,105,85,60,45,null,null,null,null,null,null,null,null,null,null,null,null,null,null,"170 / 135 / 105 / 85 / 60 / 45"]
[{"$f":"+A88","v":600},7,600,165,130,100,80,55,40,30,null,null,null,null,null,null,null,null,null,null,null,null,null,"165 / 130 / 100 / 80 / 55 / 40 / 30"]
[{"$f":"+A89","v":600},8,600,150,115,95,75,55,45,35,30,null,null,null,null,null,null,null,null,null,null,null,null,"150 / 115 / 95 / 75 / 55 / 45 / 35 / 30"]
[{"$f":"+A90","v":600},10,600,135,100,80,60,50,45,40,35,30,25,null,null,null,null,null,null,null,null,null,null,"135 / 100 / 80 / 60 / 50 / 45 / 40 / 35 / 30 / 25"]
[650,7,650,180,135,105,85,65,50,30,null,null,null,null,null,null,null,null,null,null,null,null,null,"180 / 135 / 105 / 85 / 65 / 50 / 30"]
[{"$f":"+A92","v":650},8,650,165,125,100,75,60,50,40,35,null,null,null,null,null,null,null,null,null,null,null,null,"165 / 125 / 100 / 75 / 60 / 50 / 40 / 35"]
[{"$f":"+A93","v":650},10,650,140,105,85,65,55,50,45,40,35,30,null,null,null,null,null,null,null,null,null,null,"140 / 105 / 85 / 65 / 55 / 50 / 45 / 40 / 35 / 30"]
[700,7,700,185,145,115,95,75,55,30,null,null,null,null,null,null,null,null,null,null,null,null,null,"185 / 145 / 115 / 95 / 75 / 55 / 30"]
[{"$f":"+A95","v":700},8,700,175,140,100,80,65,55,45,40,null,null,null,null,null,null,null,null,null,null,null,null,"175 / 140 / 100 / 80 / 65 / 55 / 45 / 40"]
[{"$f":"+A96","v":700},10,700,145,110,90,70,60,55,50,45,40,35,null,null,null,null,null,null,null,null,null,null,"145 / 110 / 90 / 70 / 60 / 55 / 50 / 45 / 40 / 35"]
[750,8,750,195,150,110,80,70,60,45,40,null,null,null,null,null,null,null,null,null,null,null,null,"195 / 150 / 110 / 80 / 70 / 60 / 45 / 40"]
[{"$f":"+A98","v":750},10,750,150,115,95,75,65,60,55,50,45,40,null,null,null,null,null,null,null,null,null,null,"150 / 115 / 95 / 75 / 65 / 60 / 55 / 50 / 45 / 40"]
[{"$f":"+A99","v":750},12,750,145,110,90,70,60,55,50,45,40,35,30,20,null,null,null,null,null,null,null,null,"145 / 110 / 90 / 70 / 60 / 55 / 50 / 45 / 40 / 35 / 30 / 20"]
[800,8,800,200,155,120,90,75,65,50,45,null,null,null,null,null,null,null,null,null,null,null,null,"200 / 155 / 120 / 90 / 75 / 65 / 50 / 45"]
[{"$f":"+A101","v":800},10,800,155,120,100,80,70,65,60,55,50,45,null,null,null,null,null,null,null,null,null,null,"155 / 120 / 100 / 80 / 70 / 65 / 60 / 55 / 50 / 45"]
[{"$f":"+A102","v":800},12,800,150,115,95,75,65,60,55,50,45,40,30,20,null,null,null,null,null,null,null,null,"150 / 115 / 95 / 75 / 65 / 60 / 55 / 50 / 45 / 40 / 30 / 20"]
[850,9,850,200,150,120,95,80,70,55,45,35,null,null,null,null,null,null,null,null,null,null,null,"200 / 150 / 120 / 95 / 80 / 70 / 55 / 45 / 35"]
[{"$f":"+A104","v":850},10,850,160,125,105,85,75,70,65,60,55,50,null,null,null,null,null,null,null,null,null,null,"160 / 125 / 105 / 85 / 75 / 70 / 65 / 60 / 55 / 50"]
[{"$f":"+A104","v":850},12,850,155,120,100,80,70,65,60,55,50,45,30,20,null,null,null,null,null,null,null,null,"155 / 120 / 100 / 80 / 70 / 65 / 60 / 55 / 50 / 45 / 30 / 20"]
[900,9,900,210,155,120,100,80,70,60,55,50,null,null,null,null,null,null,null,null,null,null,null,"210 / 155 / 120 / 100 / 80 / 70 / 60 / 55 / 50"]
[{"$f":"+A107","v":900},10,900,165,130,110,90,80,75,70,65,60,55,null,null,null,null,null,null,null,null,null,null,"165 / 130 / 110 / 90 / 80 / 75 / 70 / 65 / 60 / 55"]
[{"$f":"+A107","v":900},12,900,160,125,105,85,75,70,65,60,55,50,30,20,null,null,null,null,null,null,null,null,"160 / 125 / 105 / 85 / 75 / 70 / 65 / 60 / 55 / 50 / 30 / 20"]
[950,10,950,230,175,135,100,80,65,55,45,35,30,null,null,null,null,null,null,null,null,null,null,"230 / 175 / 135 / 100 / 80 / 65 / 55 / 45 / 35 / 30"]
[{"$f":"+A110","v":950},12,950,220,165,125,100,75,60,50,40,35,30,25,25,null,null,null,null,null,null,null,null,"220 / 165 / 125 / 100 / 75 / 60 / 50 / 40 / 35 / 30 / 25 / 25"]
[1000,10,1000,245,190,150,105,80,65,55,45,35,30,null,null,null,null,null,null,null,null,null,null,"245 / 190 / 150 / 105 / 80 / 65 / 55 / 45 / 35 / 30"]
[{"$f":"+A112","v":1000},12,1000,240,185,145,100,75,60,50,40,30,25,25,25,null,null,null,null,null,null,null,null,"240 / 185 / 145 / 100 / 75 / 60 / 50 / 40 / 30 / 25 / 25 / 25"]
[{"$f":"+A113","v":1000},15,1000,220,165,130,90,75,60,50,40,30,30,25,25,20,20,20,null,null,null,null,null,"220 / 165 / 130 / 90 / 75 / 60 / 50 / 40 / 30 / 30 / 25 / 25 / 20 / 20 / 20"]
[1100,12,1100,250,195,155,110,85,70,60,50,40,35,25,25,null,null,null,null,null,null,null,null,"250 / 195 / 155 / 110 / 85 / 70 / 60 / 50 / 40 / 35 / 25 / 25"]
[{"$f":"+A115","v":1100},15,1100,235,175,135,105,80,65,55,45,35,35,30,30,25,25,25,null,null,null,null,null,"235 / 175 / 135 / 105 / 80 / 65 / 55 / 45 / 35 / 35 / 30 / 30 / 25 / 25 / 25"]
[1200,12,1200,255,200,155,115,95,80,70,60,50,45,40,35,null,null,null,null,null,null,null,null,"255 / 200 / 155 / 115 / 95 / 80 / 70 / 60 / 50 / 45 / 40 / 35"]
[{"$f":"+A117","v":1200},15,1200,240,180,140,105,90,75,65,60,50,40,35,35,30,30,25,null,null,null,null,null,"240 / 180 / 140 / 105 / 90 / 75 / 65 / 60 / 50 / 40 / 35 / 35 / 30 / 30 / 25"]
[1300,13,1300,250,195,160,125,105,90,80,70,60,55,45,35,30,null,null,null,null,null,null,null,"250 / 195 / 160 / 125 / 105 / 90 / 80 / 70 / 60 / 55 / 45 / 35 / 30"]
[{"$f":"+A119","v":1300},15,1300,260,190,150,110,95,80,70,65,55,45,40,40,35,35,30,null,null,null,null,null,"260 / 190 / 150 / 110 / 95 / 80 / 70 / 65 / 55 / 45 / 40 / 40 / 35 / 35 / 30"]
[1400,14,1400,290,215,165,125,105,90,80,70,60,50,45,40,35,30,null,null,null,null,null,null,"290 / 215 / 165 / 125 / 105 / 90 / 80 / 70 / 60 / 50 / 45 / 40 / 35 / 30"]
[{"$f":"+A121","v":1400},15,1400,275,205,160,125,105,90,80,70,60,50,45,40,35,30,30,null,null,null,null,null,"275 / 205 / 160 / 125 / 105 / 90 / 80 / 70 / 60 / 50 / 45 / 40 / 35 / 30 / 30"]
[1500,15,1500,280,210,180,145,125,105,95,70,60,50,45,40,35,30,30,null,null,null,null,null,"280 / 210 / 180 / 145 / 125 / 105 / 95 / 70 / 60 / 50 / 45 / 40 / 35 / 30 / 30"]
[{"$f":"+A123","v":1500},20,1500,225,185,160,140,120,100,85,70,60,50,45,40,35,35,30,30,25,25,20,20,"225 / 185 / 160 / 140 / 120 / 100 / 85 / 70 / 60 / 50 / 45 / 40 / 35 / 35 / 30 / 30 / 25 / 25 / 20 / 20"]
[1600,16,1600,290,235,190,150,125,105,90,80,70,60,50,40,35,30,25,25,null,null,null,null,"290 / 235 / 190 / 150 / 125 / 105 / 90 / 80 / 70 / 60 / 50 / 40 / 35 / 30 / 25 / 25"]
[{"$f":"+A125","v":1600},20,1600,230,190,165,145,125,105,90,75,65,55,50,45,40,40,35,35,30,30,25,25,"230 / 190 / 165 / 145 / 125 / 105 / 90 / 75 / 65 / 55 / 50 / 45 / 40 / 40 / 35 / 35 / 30 / 30 / 25 / 25"]
[1700,17,1700,300,240,195,155,130,110,95,85,75,65,55,45,40,35,30,25,20,null,null,null,"300 / 240 / 195 / 155 / 130 / 110 / 95 / 85 / 75 / 65 / 55 / 45 / 40 / 35 / 30 / 25 / 20"]
[{"$f":"+A127","v":1700},20,1700,250,200,175,150,125,110,95,80,70,60,55,50,45,45,40,40,30,30,25,25,"250 / 200 / 175 / 150 / 125 / 110 / 95 / 80 / 70 / 60 / 55 / 50 / 45 / 45 / 40 / 40 / 30 / 30 / 25 / 25"]
[1800,18,1800,325,255,200,160,135,115,100,85,75,65,55,45,40,35,30,30,25,25,null,null,"325 / 255 / 200 / 160 / 135 / 115 / 100 / 85 / 75 / 65 / 55 / 45 / 40 / 35 / 30 / 30 / 25 / 25"]
[{"$f":"+A129","v":1800},20,1800,270,225,180,155,135,115,100,85,75,65,60,55,50,45,40,35,30,30,25,25,"270 / 225 / 180 / 155 / 135 / 115 / 100 / 85 / 75 / 65 / 60 / 55 / 50 / 45 / 40 / 35 / 30 / 30 / 25 / 25"]
[1900,20,{"$f":"SUM(D131:W131)","v":1900},{"$f":"+D130+5","v":275},{"$f":"+E130+5","v":230},185,160,140,120,105,90,80,70,65,60,55,50,45,40,35,35,30,30,"275 / 230 / 185 / 160 / 140 / 120 / 105 / 90 / 80 / 70 / 65 / 60 / 55 / 50 / 45 / 40 / 35 / 35 / 30 / 30"]
[2000,20,{"$f":"SUM(D132:W132)","v":2000},300,235,190,165,145,125,110,95,85,75,70,65,60,55,50,45,40,35,30,25,"300 / 235 / 190 / 165 / 145 / 125 / 110 / 95 / 85 / 75 / 70 / 65 / 60 / 55 / 50 / 45 / 40 / 35 / 30 / 25"]

{"sheet":"Breakdowns_Over2000","index":2,"n_rows":50,"n_cols":6,"rows_kept":50,"cut":false,"hidden":true,"merged":[]}
["This rule is no longer applicable and has been removed from the USA Cycling rulebook."]
[]
[null,"This exhibit can be used to check for compliance with rule 1L3(b) in the USAC rulebook"]
[null,"and should be used for purses over $2,000.  Payouts should go at least 20 places deep."]
[]
[null,"The following example shows several paying positions that do not meet the requirements of rule 1L3(b)."]
[]
[]
[null,"Total Purse ==>",null,{"$f":"SUM(D11:D50)","v":1798.869828571841},{"$f":"SUM(E11:E50)","v":2090}]
[null,"Place","Minimum % of 1st Place","Minimum Payout","Actual Payout"]
[null,1,null,{"$f":"+E11","v":500},500,{"$f":"IF(E11<D11,\" <== ERROR\",\"\")","v":""}]
[null,{"$f":"+B11+1","v":2},{"$f":"IF(B12<=20,1/B12,0)","v":0.5},{"$f":"IF(E12>0,D$11*$C12,\"\")","v":250},225,{"$f":"IF(AND(E12<D12,E12>0),\" <== ERROR\",\"\")","v":" <== ERROR"}]
[null,3,0.33333333333333331,166.66666666666666,200,""]
[null,4,0.25,125,175,""]
[null,5,0.2,100,150,""]
[null,6,0.16666666666666666,83.333333333333329,125,""]
[null,7,0.14285714285714285,71.428571428571431,100,""]
[null,8,0.125,62.5,90,""]
[null,9,0.1111111111111111,55.55555555555555,80,""]
[null,10,0.1,50,70,""]
[null,11,9.0909090909090912E-2,45.454545454545453,60,""]
[null,12,8.3333333333333329E-2,41.666666666666664,50,""]
[null,13,7.6923076923076927E-2,38.461538461538467,40,""]
[null,14,7.1428571428571425E-2,35.714285714285715,30," <== ERROR"]
[null,15,6.6666666666666666E-2,33.333333333333336,20," <== ERROR"]
[null,16,6.25E-2,31.25,20," <== ERROR"]
[null,17,5.8823529411764705E-2,29.411764705882351,20," <== ERROR"]
[null,18,5.5555555555555552E-2,27.777777777777775,20," <== ERROR"]
[null,19,5.2631578947368418E-2,26.315789473684209,20," <== ERROR"]
[null,20,0.05,25,20," <== ERROR"]
[null,21,0,0,15,""]
[null,22,0,0,15,""]
[null,23,0,0,15,""]
[null,24,0,0,15,""]
[null,25,0,0,15,""]
[null,26,0,"",null,""]
[null,27,0,"",null,""]
[null,28,0,"",null,""]
[null,29,0,"",null,""]
[null,30,0,"",null,""]
[null,31,0,"",null,""]
[null,32,0,"",null,""]
[null,33,0,"",null,""]
[null,34,0,"",null,""]
[null,35,0,"",null,""]
[null,36,0,"",null,""]
[null,37,0,"",null,""]
[null,38,0,"",null,""]
[null,39,0,"",null,""]
[null,40,0,"",null,""]

{"sheet":"PrizeList","index":3,"n_rows":26,"n_cols":22,"rows_kept":26,"cut":false,"hidden":false,"merged":[]}
[null,{"$f":"+Inputs!$F$3","v":"Enter event name here…"}]
[null,"Payout Distribution"]
[]
[null,"Race",null,"Prizes",null,null,null,1,{"$f":"+H4+1","v":2},{"$f":"+I4+1","v":3},4,5,6,7,8,9,10,11,12,13,14,15]
[]
[null,"Pro/1/2",null,{"$f":"SUM(H6:W6)","v":0},"/",{"$f":"COUNT(H6:W6)","v":0}]
[null,"Cat 2 Bonus",null,{"$f":"SUM(H7:W7)","v":0},"/",{"$f":"COUNT(H7:W7)","v":0}]
[]
[null,"Cat 3",null,{"$f":"SUM(H9:W9)","v":0},"/",{"$f":"COUNT(H9:W9)","v":0}]
[]
[null,"Cat 4",null,{"$f":"SUM(H11:W11)","v":0},"/",{"$f":"COUNT(H11:W11)","v":0}]
[]
[null,"Cat 5",null,"Age Group Medals 3 Deep  (19-29, 30-39, 40+)"]
[]
[null,"Masters 30+/40+",null,{"$f":"SUM(H15:W15)","v":0},"/",{"$f":"COUNT(H15:W15)","v":0}]
[null,"Masters 40+ Bonus",null,{"$f":"SUM(H16:W16)","v":0},"/",{"$f":"COUNT(H16:W16)","v":0}]
[null,"Masters 50+/60+",null,{"$f":"SUM(H17:W17)","v":0},"/",{"$f":"COUNT(H17:W17)","v":0}]
[null,"Masters 60+ Bonus",null,{"$f":"SUM(H18:W18)","v":0},"/",{"$f":"COUNT(H18:W18)","v":0}]
[]
[null,"Juniors",null,{"$f":"SUM(H20:W20)","v":0},"/",{"$f":"COUNT(H20:W20)","v":0}]
[]
[null,"Women 1/2/3",null,{"$f":"SUM(H22:W22)","v":0},"/",{"$f":"COUNT(H22:W22)","v":0}]
[null,"Women 4",null,{"$f":"SUM(H23:W23)","v":0},"/",{"$f":"COUNT(H23:W23)","v":0}]
[]
[]
[null,"Total Purse:",null,{"$f":"SUM(D5:D24)","v":0}]

{"sheet":"Signatures","index":4,"n_rows":216,"n_cols":3,"rows_kept":216,"cut":false,"hidden":false,"merged":[]}
[null," "]
["",{"$f":"+Inputs!$F$3","v":"Enter event name here…"}]
["","Rider Payout Signatures"]
[""]
[{"$f":"+A21","v":"||"},{"$f":"+PrizeList!B6","v":"Pro/1/2"}]
[{"$f":"IF(C6,\"\",\"||\")","v":"||"},1,{"$f":"+PrizeList!H$6","v":0}]
[{"$f":"IF(C7,\"\",\"||\")","v":"||"},{"$f":"B6+1","v":2},{"$f":"+PrizeList!I$6","v":0}]
["||",3,{"$f":"+PrizeList!J$6","v":0}]
["||",4,{"$f":"+PrizeList!K$6","v":0}]
["||",5,{"$f":"+PrizeList!L$6","v":0}]
["||",6,{"$f":"+PrizeList!M$6","v":0}]
["||",7,{"$f":"+PrizeList!N$6","v":0}]
["||",8,{"$f":"+PrizeList!O$6","v":0}]
["||",{"$f":"B13+1","v":9},{"$f":"+PrizeList!P$6","v":0}]
["||",10,{"$f":"+PrizeList!Q$6","v":0}]
["||",11,{"$f":"+PrizeList!R$6","v":0}]
["||",12,{"$f":"+PrizeList!S$6","v":0}]
["||",13,{"$f":"+PrizeList!T$6","v":0}]
["||",14,{"$f":"+PrizeList!U$6","v":0}]
["||",15,{"$f":"+PrizeList!V$6","v":0}]
["||",null,{"$f":"SUM(C6:C20)","v":0}]
[{"$f":"+A21","v":"||"}]
[{"$f":"+A39","v":"||"},{"$f":"+PrizeList!B7","v":"Cat 2 Bonus"}]
[{"$f":"IF(C24,\"\",\"||\")","v":"||"},1,{"$f":"+PrizeList!H$7","v":0}]
[{"$f":"IF(C25,\"\",\"||\")","v":"||"},{"$f":"B24+1","v":2},{"$f":"+PrizeList!I$7","v":0}]
["||",3,{"$f":"+PrizeList!J$7","v":0}]
["||",4,{"$f":"+PrizeList!K$7","v":0}]
["||",5,{"$f":"+PrizeList!L$7","v":0}]
["||",6,{"$f":"+PrizeList!M$7","v":0}]
["||",7,{"$f":"+PrizeList!N$7","v":0}]
["||",8,{"$f":"+PrizeList!O$7","v":0}]
["||",{"$f":"B31+1","v":9},{"$f":"+PrizeList!P$7","v":0}]
["||",10,{"$f":"+PrizeList!Q$7","v":0}]
["||",11,{"$f":"+PrizeList!R$7","v":0}]
["||",12,{"$f":"+PrizeList!S$7","v":0}]
["||",13,{"$f":"+PrizeList!T$7","v":0}]
["||",14,{"$f":"+PrizeList!U$7","v":0}]
["||",15,{"$f":"+PrizeList!V$7","v":0}]
["||",null,{"$f":"SUM(C24:C38)","v":0}]
[{"$f":"+A39","v":"||"}]
[{"$f":"+A57","v":"||"},{"$f":"+PrizeList!B9","v":"Cat 3"}]
[{"$f":"IF(C42,\"\",\"||\")","v":"||"},1,{"$f":"+PrizeList!H$9","v":0}]
[{"$f":"IF(C43,\"\",\"||\")","v":"||"},{"$f":"B42+1","v":2},{"$f":"+PrizeList!I$9","v":0}]
["||",3,{"$f":"+PrizeList!J$9","v":0}]
["||",4,{"$f":"+PrizeList!K$9","v":0}]
["||",5,{"$f":"+PrizeList!L$9","v":0}]
["||",6,{"$f":"+PrizeList!M$9","v":0}]
["||",7,{"$f":"+PrizeList!N$9","v":0}]
["||",8,{"$f":"+PrizeList!O$9","v":0}]
["||",9,{"$f":"+PrizeList!P$9","v":0}]
["||",10,{"$f":"+PrizeList!Q$9","v":0}]
["||",11,{"$f":"+PrizeList!R$9","v":0}]
["||",12,{"$f":"+PrizeList!S$9","v":0}]
["||",13,{"$f":"+PrizeList!T$9","v":0}]
["||",14,{"$f":"+PrizeList!U$9","v":0}]
["||",15,{"$f":"+PrizeList!V$9","v":0}]
["||",null,{"$f":"SUM(C42:C56)","v":0}]
[{"$f":"+A57","v":"||"}]
[{"$f":"+A75","v":"||"},{"$f":"+PrizeList!B11","v":"Cat 4"}]
[{"$f":"IF(C60,\"\",\"||\")","v":"||"},1,{"$f":"+PrizeList!H$11","v":0}]
[{"$f":"IF(C61,\"\",\"||\")","v":"||"},{"$f":"B60+1","v":2},{"$f":"+PrizeList!I$11","v":0}]
["||",3,{"$f":"+PrizeList!J$11","v":0}]
["||",4,{"$f":"+PrizeList!K$11","v":0}]
["||",5,{"$f":"+PrizeList!L$11","v":0}]
["||",6,{"$f":"+PrizeList!M$11","v":0}]
["||",7,{"$f":"+PrizeList!N$11","v":0}]
["||",8,{"$f":"+PrizeList!O$11","v":0}]
["||",9,{"$f":"+PrizeList!P$11","v":0}]
["||",10,{"$f":"+PrizeList!Q$11","v":0}]
["||",11,{"$f":"+PrizeList!R$11","v":0}]
["||",12,{"$f":"+PrizeList!S$11","v":0}]
["||",13,{"$f":"+PrizeList!T$11","v":0}]
["||",14,{"$f":"+PrizeList!U$11","v":0}]
["||",15,{"$f":"+PrizeList!V$11","v":0}]
["||",null,{"$f":"SUM(C60:C74)","v":0}]
[{"$f":"+A75","v":"||"}]
[{"$f":"+A93","v":"||"},{"$f":"+PrizeList!B15","v":"Masters 30+/40+"}]
[{"$f":"IF(C78,\"\",\"||\")","v":"||"},1,{"$f":"+PrizeList!H$15","v":0}]
[{"$f":"IF(C79,\"\",\"||\")","v":"||"},2,{"$f":"+PrizeList!I$15","v":0}]
["||",3,{"$f":"+PrizeList!J$15","v":0}]
["||",{"$f":"B80+1","v":4},{"$f":"+PrizeList!K$15","v":0}]
["||",5,{"$f":"+PrizeList!L$15","v":0}]
["||",6,{"$f":"+PrizeList!M$15","v":0}]
["||",7,{"$f":"+PrizeList!N$15","v":0}]
["||",8,{"$f":"+PrizeList!O$15","v":0}]
["||",9,{"$f":"+PrizeList!P$15","v":0}]
["||",10,{"$f":"+PrizeList!Q$15","v":0}]
["||",11,{"$f":"+PrizeList!R$15","v":0}]
["||",12,{"$f":"+PrizeList!S$15","v":0}]
["||",13,{"$f":"+PrizeList!T$15","v":0}]
["||",14,{"$f":"+PrizeList!U$15","v":0}]
["||",15,{"$f":"+PrizeList!V$15","v":0}]
["||",null,{"$f":"SUM(C78:C92)","v":0}]
[{"$f":"+A93","v":"||"}]
[{"$f":"+A111","v":"||"},{"$f":"+PrizeList!B16","v":"Masters 40+ Bonus"}]
[{"$f":"IF(C96,\"\",\"||\")","v":"||"},1,{"$f":"+PrizeList!H$16","v":0}]
[{"$f":"IF(C97,\"\",\"||\")","v":"||"},2,{"$f":"+PrizeList!I$16","v":0}]
["||",{"$f":"B97+1","v":3},{"$f":"+PrizeList!J$16","v":0}]
["||",4,{"$f":"+PrizeList!K$16","v":0}]
["||",5,{"$f":"+PrizeList!L$16","v":0}]
["||",6,{"$f":"+PrizeList!M$16","v":0}]
["||",7,{"$f":"+PrizeList!N$16","v":0}]
["||",8,{"$f":"+PrizeList!O$16","v":0}]
["||",9,{"$f":"+PrizeList!P$16","v":0}]
["||",10,{"$f":"+PrizeList!Q$16","v":0}]
["||",11,{"$f":"+PrizeList!R$16","v":0}]
["||",12,{"$f":"+PrizeList!S$16","v":0}]
["||",13,{"$f":"+PrizeList!T$16","v":0}]
["||",14,{"$f":"+PrizeList!U$16","v":0}]
["||",15,{"$f":"+PrizeList!V$16","v":0}]
["||",null,{"$f":"SUM(C96:C110)","v":0}]
[{"$f":"+A111","v":"||"}]
[{"$f":"+A129","v":"||"},{"$f":"+PrizeList!B17","v":"Masters 50+/60+"}]
[{"$f":"IF(C114,\"\",\"||\")","v":"||"},1,{"$f":"+PrizeList!H$17","v":0}]
[{"$f":"IF(C115,\"\",\"||\")","v":"||"},2,{"$f":"+PrizeList!I$17","v":0}]
["||",3,{"$f":"+PrizeList!J$17","v":0}]
["||",{"$f":"B116+1","v":4},{"$f":"+PrizeList!K$17","v":0}]
["||",5,{"$f":"+PrizeList!L$17","v":0}]
["||",6,{"$f":"+PrizeList!M$17","v":0}]
["||",7,{"$f":"+PrizeList!N$17","v":0}]
["||",8,{"$f":"+PrizeList!O$17","v":0}]
["||",9,{"$f":"+PrizeList!P$17","v":0}]
["||",10,{"$f":"+PrizeList!Q$17","v":0}]
["||",11,{"$f":"+PrizeList!R$17","v":0}]
["||",12,{"$f":"+PrizeList!S$17","v":0}]
["||",13,{"$f":"+PrizeList!T$17","v":0}]
["||",14,{"$f":"+PrizeList!U$17","v":0}]
["||",15,{"$f":"+PrizeList!V$17","v":0}]
["||",null,{"$f":"SUM(C114:C128)","v":0}]
[{"$f":"+A129","v":"||"}]
[{"$f":"+A147","v":"||"},{"$f":"+PrizeList!B18","v":"Masters 60+ Bonus"}]
[{"$f":"IF(C132,\"\",\"||\")","v":"||"},1,{"$f":"+PrizeList!H$18","v":0}]
[{"$f":"IF(C133,\"\",\"||\")","v":"||"},2,{"$f":"+PrizeList!I$18","v":0}]
["||",3,{"$f":"+PrizeList!J$18","v":0}]
["||",{"$f":"B134+1","v":4},{"$f":"+PrizeList!K$18","v":0}]
["||",5,{"$f":"+PrizeList!L$18","v":0}]
["||",6,{"$f":"+PrizeList!M$18","v":0}]
["||",7,{"$f":"+PrizeList!N$18","v":0}]
["||",8,{"$f":"+PrizeList!O$18","v":0}]
["||",9,{"$f":"+PrizeList!P$18","v":0}]
["||",10,{"$f":"+PrizeList!Q$18","v":0}]
["||",11,{"$f":"+PrizeList!R$18","v":0}]
["||",12,{"$f":"+PrizeList!S$18","v":0}]
["||",13,{"$f":"+PrizeList!T$18","v":0}]
["||",14,{"$f":"+PrizeList!U$18","v":0}]
["||",15,{"$f":"+PrizeList!V$18","v":0}]
["||",null,{"$f":"SUM(C132:C146)","v":0}]
[{"$f":"+A147","v":"||"}]
[{"$f":"+A165","v":"||"},{"$f":"+PrizeList!B20","v":"Juniors"}]
[{"$f":"IF(C150,\"\",\"||\")","v":"||"},1,{"$f":"+PrizeList!H$20","v":0}]
[{"$f":"IF(C151,\"\",\"||\")","v":"||"},{"$f":"B150+1","v":2},{"$f":"+PrizeList!I$20","v":0}]
["||",3,{"$f":"+PrizeList!J$20","v":0}]
["||",4,{"$f":"+PrizeList!K$20","v":0}]
["||",5,{"$f":"+PrizeList!L$20","v":0}]
["||",6,{"$f":"+PrizeList!M$20","v":0}]
["||",7,{"$f":"+PrizeList!N$20","v":0}]
["||",8,{"$f":"+PrizeList!O$20","v":0}]
["||",9,{"$f":"+PrizeList!P$20","v":0}]
["||",10,{"$f":"+PrizeList!Q$20","v":0}]
["||",11,{"$f":"+PrizeList!R$20","v":0}]
["||",12,{"$f":"+PrizeList!S$20","v":0}]
["||",13,{"$f":"+PrizeList!T$20","v":0}]
["||",14,{"$f":"+PrizeList!U$20","v":0}]
["||",15,{"$f":"+PrizeList!V$20","v":0}]
["||",null,{"$f":"SUM(C150:C164)","v":0}]
[{"$f":"+A165","v":"||"}]
[{"$f":"+A183","v":"||"},{"$f":"+PrizeList!B22","v":"Women 1/2/3"}]
[{"$f":"IF(C168,\"\",\"||\")","v":"||"},1,{"$f":"+PrizeList!H$22","v":0}]
[{"$f":"IF(C169,\"\",\"||\")","v":"||"},{"$f":"B168+1","v":2},{"$f":"+PrizeList!I$22","v":0}]
["||",3,{"$f":"+PrizeList!J$22","v":0}]
["||",4,{"$f":"+PrizeList!K$22","v":0}]
["||",5,{"$f":"+PrizeList!L$22","v":0}]
["||",6,{"$f":"+PrizeList!M$22","v":0}]
["||",7,{"$f":"+PrizeList!N$22","v":0}]
["||",8,{"$f":"+PrizeList!O$22","v":0}]
["||",{"$f":"B175+1","v":9},{"$f":"+PrizeList!P$22","v":0}]
["||",10,{"$f":"+PrizeList!Q$22","v":0}]
["||",11,{"$f":"+PrizeList!R$22","v":0}]
["||",12,{"$f":"+PrizeList!S$22","v":0}]
["||",13,{"$f":"+PrizeList!T$22","v":0}]
["||",14,{"$f":"+PrizeList!U$22","v":0}]
["||",15,{"$f":"+PrizeList!V$22","v":0}]
["||",null,{"$f":"SUM(C168:C182)","v":0}]
[{"$f":"+A183","v":"||"}]
[{"$f":"+A201","v":"||"},{"$f":"+PrizeList!B23","v":"Women 4"}]
[{"$f":"IF(C186,\"\",\"||\")","v":"||"},1,{"$f":"+PrizeList!H$23","v":0}]
[{"$f":"IF(C187,\"\",\"||\")","v":"||"},{"$f":"B186+1","v":2},{"$f":"+PrizeList!I$23","v":0}]
["||",3,{"$f":"+PrizeList!J$23","v":0}]
["||",4,{"$f":"+PrizeList!K$23","v":0}]
["||",5,{"$f":"+PrizeList!L$23","v":0}]
["||",6,{"$f":"+PrizeList!M$23","v":0}]
["||",7,{"$f":"+PrizeList!N$23","v":0}]
["||",8,{"$f":"+PrizeList!O$23","v":0}]
["||",9,{"$f":"+PrizeList!P$23","v":0}]
["||",10,{"$f":"+PrizeList!Q$23","v":0}]
["||",11,{"$f":"+PrizeList!R$23","v":0}]
["||",12,{"$f":"+PrizeList!S$23","v":0}]
["||",13,{"$f":"+PrizeList!T$23","v":0}]
["||",14,{"$f":"+PrizeList!U$23","v":0}]
["||",15,{"$f":"+PrizeList!V$23","v":0}]
["||",null,{"$f":"SUM(C186:C200)","v":0}]
[{"$f":"+A201","v":"||"}]
["","Cat 5:  20-29"]
["",1,"Gold"]
["",2,"Silver"]
["",3,"Bronze"]
[""]
["","Cat 5:  30-39"]
["",1,"Gold"]
["",2,"Silver"]
["",3,"Bronze"]
[""]
["","Cat 5:  40+"]
["",1,"Gold"]
["",2,"Silver"]
["",3,"Bronze"]

{"sheet":"MailMerge","index":5,"n_rows":166,"n_cols":4,"rows_kept":166,"cut":false,"hidden":false,"merged":[]}
["Event","Category","Place","Payout"]
[{"$f":"+Signatures!$B$2","v":"Enter event name here…"},{"$f":"+Signatures!B5","v":"Pro/1/2"},{"$f":"+Signatures!B6","v":1},{"$f":"+Signatures!C6","v":0}]
[{"$f":"+Signatures!$B$2","v":"Enter event name here…"},{"$f":"+B2","v":"Pro/1/2"},{"$f":"+Signatures!B7","v":2},{"$f":"+Signatures!C7","v":0}]
[{"$f":"+Signatures!$B$2","v":"Enter event name here…"},{"$f":"+B3","v":"Pro/1/2"},{"$f":"+Signatures!B8","v":3},{"$f":"+Signatures!C8","v":0}]
[{"$f":"+Signatures!$B$2","v":"Enter event name here…"},"Pro/1/2",{"$f":"+Signatures!B9","v":4},{"$f":"+Signatures!C9","v":0}]
[{"$f":"+Signatures!$B$2","v":"Enter event name here…"},"Pro/1/2",{"$f":"+Signatures!B10","v":5},{"$f":"+Signatures!C10","v":0}]
[{"$f":"+Signatures!$B$2","v":"Enter event name here…"},"Pro/1/2",{"$f":"+Signatures!B11","v":6},{"$f":"+Signatures!C11","v":0}]
[{"$f":"+Signatures!$B$2","v":"Enter event name here…"},"Pro/1/2",{"$f":"+Signatures!B12","v":7},{"$f":"+Signatures!C12","v":0}]
[{"$f":"+Signatures!$B$2","v":"Enter event name here…"},"Pro/1/2",{"$f":"+Signatures!B13","v":8},{"$f":"+Signatures!C13","v":0}]
[{"$f":"+Signatures!$B$2","v":"Enter event name here…"},"Pro/1/2",{"$f":"+Signatures!B14","v":9},{"$f":"+Signatures!C14","v":0}]
[{"$f":"+Signatures!$B$2","v":"Enter event name here…"},"Pro/1/2",{"$f":"+Signatures!B15","v":10},{"$f":"+Signatures!C15","v":0}]
[{"$f":"+Signatures!$B$2","v":"Enter event name here…"},"Pro/1/2",{"$f":"+Signatures!B16","v":11},{"$f":"+Signatures!C16","v":0}]
[{"$f":"+Signatures!$B$2","v":"Enter event name here…"},"Pro/1/2",{"$f":"+Signatures!B17","v":12},{"$f":"+Signatures!C17","v":0}]
[{"$f":"+Signatures!$B$2","v":"Enter event name here…"},"Pro/1/2",{"$f":"+Signatures!B18","v":13},{"$f":"+Signatures!C18","v":0}]
[{"$f":"+Signatures!$B$2","v":"Enter event name here…"},"Pro/1/2",{"$f":"+Signatures!B19","v":14},{"$f":"+Signatures!C19","v":0}]
[{"$f":"+Signatures!$B$2","v":"Enter event name here…"},"Pro/1/2",{"$f":"+Signatures!B20","v":15},{"$f":"+Signatures!C20","v":0}]
[{"$f":"+Signatures!$B$2","v":"Enter event name here…"},{"$f":"+Signatures!B23","v":"Cat 2 Bonus"},{"$f":"+Signatures!B24","v":1},{"$f":"+Signatures!C24","v":0}]
[{"$f":"+Signatures!$B$2","v":"Enter event name here…"},{"$f":"+B17","v":"Cat 2 Bonus"},{"$f":"+Signatures!B25","v":2},{"$f":"+Signatures!C25","v":0}]
[{"$f":"+Signatures!$B$2","v":"Enter event name here…"},"Cat 2 Bonus",{"$f":"+Signatures!B26","v":3},{"$f":"+Signatures!C26","v":0}]
[{"$f":"+Signatures!$B$2","v":"Enter event name here…"},"Cat 2 Bonus",{"$f":"+Signatures!B27","v":4},{"$f":"+Signatures!C27","v":0}]
[{"$f":"+Signatures!$B$2","v":"Enter event name here…"},"Cat 2 Bonus",{"$f":"+Signatures!B28","v":5},{"$f":"+Signatures!C28","v":0}]
[{"$f":"+Signatures!$B$2","v":"Enter event name here…"},"Cat 2 Bonus",{"$f":"+Signatures!B29","v":6},{"$f":"+Signatures!C29","v":0}]
[{"$f":"+Signatures!$B$2","v":"Enter event name here…"},"Cat 2 Bonus",{"$f":"+Signatures!B30","v":7},{"$f":"+Signatures!C30","v":0}]
[{"$f":"+Signatures!$B$2","v":"Enter event name here…"},"Cat 2 Bonus",{"$f":"+Signatures!B31","v":8},{"$f":"+Signatures!C31","v":0}]
[{"$f":"+Signatures!$B$2","v":"Enter event name here…"},"Cat 2 Bonus",{"$f":"+Signatures!B32","v":9},{"$f":"+Signatures!C32","v":0}]
[{"$f":"+Signatures!$B$2","v":"Enter event name here…"},"Cat 2 Bonus",{"$f":"+Signatures!B33","v":10},{"$f":"+Signatures!C33","v":0}]
[{"$f":"+Signatures!$B$2","v":"Enter event name here…"},"Cat 2 Bonus",{"$f":"+Signatures!B34","v":11},{"$f":"+Signatures!C34","v":0}]
[{"$f":"+Signatures!$B$2","v":"Enter event name here…"},"Cat 2 Bonus",{"$f":"+Signatures!B35","v":12},{"$f":"+Signatures!C35","v":0}]
[{"$f":"+Signatures!$B$2","v":"Enter event name here…"},"Cat 2 Bonus",{"$f":"+Signatures!B36","v":13},{"$f":"+Signatures!C36","v":0}]
[{"$f":"+Signatures!$B$2","v":"Enter event name here…"},"Cat 2 Bonus",{"$f":"+Signatures!B37","v":14},{"$f":"+Signatures!C37","v":0}]
[{"$f":"+Signatures!$B$2","v":"Enter event name here…"},"Cat 2 Bonus",{"$f":"+Signatures!B38","v":15},{"$f":"+Signatures!C38","v":0}]
[{"$f":"+Signatures!$B$2","v":"Enter event name here…"},{"$f":"+Signatures!B41","v":"Cat 3"},{"$f":"+Signatures!B42","v":1},{"$f":"+Signatures!C42","v":0}]
[{"$f":"+Signatures!$B$2","v":"Enter event name here…"},{"$f":"+B32","v":"Cat 3"},{"$f":"+Signatures!B43","v":2},{"$f":"+Signatures!C43","v":0}]
[{"$f":"+Signatures!$B$2","v":"Enter event name here…"},"Cat 3",{"$f":"+Signatures!B44","v":3},{"$f":"+Signatures!C44","v":0}]
[{"$f":"+Signatures!$B$2","v":"Enter event name here…"},"Cat 3",{"$f":"+Signatures!B45","v":4},{"$f":"+Signatures!C45","v":0}]
[{"$f":"+Signatures!$B$2","v":"Enter event name here…"},"Cat 3",{"$f":"+Signatures!B46","v":5},{"$f":"+Signatures!C46","v":0}]
[{"$f":"+Signatures!$B$2","v":"Enter event name here…"},"Cat 3",{"$f":"+Signatures!B47","v":6},{"$f":"+Signatures!C47","v":0}]
[{"$f":"+Signatures!$B$2","v":"Enter event name here…"},"Cat 3",{"$f":"+Signatures!B48","v":7},{"$f":"+Signatures!C48","v":0}]
[{"$f":"+Signatures!$B$2","v":"Enter event name here…"},"Cat 3",{"$f":"+Signatures!B49","v":8},{"$f":"+Signatures!C49","v":0}]
[{"$f":"+Signatures!$B$2","v":"Enter event name here…"},"Cat 3",{"$f":"+Signatures!B50","v":9},{"$f":"+Signatures!C50","v":0}]
[{"$f":"+Signatures!$B$2","v":"Enter event name here…"},"Cat 3",{"$f":"+Signatures!B51","v":10},{"$f":"+Signatures!C51","v":0}]
[{"$f":"+Signatures!$B$2","v":"Enter event name here…"},"Cat 3",{"$f":"+Signatures!B52","v":11},{"$f":"+Signatures!C52","v":0}]
[{"$f":"+Signatures!$B$2","v":"Enter event name here…"},"Cat 3",{"$f":"+Signatures!B53","v":12},{"$f":"+Signatures!C53","v":0}]
[{"$f":"+Signatures!$B$2","v":"Enter event name here…"},"Cat 3",{"$f":"+Signatures!B54","v":13},{"$f":"+Signatures!C54","v":0}]
[{"$f":"+Signatures!$B$2","v":"Enter event name here…"},"Cat 3",{"$f":"+Signatures!B55","v":14},{"$f":"+Signatures!C55","v":0}]
[{"$f":"+Signatures!$B$2","v":"Enter event name here…"},"Cat 3",{"$f":"+Signatures!B56","v":15},{"$f":"+Signatures!C56","v":0}]
[{"$f":"+Signatures!$B$2","v":"Enter event name here…"},{"$f":"+Signatures!B59","v":"Cat 4"},{"$f":"+Signatures!B60","v":1},{"$f":"+Signatures!C60","v":0}]
[{"$f":"+Signatures!$B$2","v":"Enter event name here…"},{"$f":"+B47","v":"Cat 4"},{"$f":"+Signatures!B61","v":2},{"$f":"+Signatures!C61","v":0}]
[{"$f":"+Signatures!$B$2","v":"Enter event name here…"},"Cat 4",{"$f":"+Signatures!B62","v":3},{"$f":"+Signatures!C62","v":0}]
[{"$f":"+Signatures!$B$2","v":"Enter event name here…"},"Cat 4",{"$f":"+Signatures!B63","v":4},{"$f":"+Signatures!C63","v":0}]
[{"$f":"+Signatures!$B$2","v":"Enter event name here…"},"Cat 4",{"$f":"+Signatures!B64","v":5},{"$f":"+Signatures!C64","v":0}]
[{"$f":"+Signatures!$B$2","v":"Enter event name here…"},"Cat 4",{"$f":"+Signatures!B65","v":6},{"$f":"+Signatures!C65","v":0}]
[{"$f":"+Signatures!$B$2","v":"Enter event name here…"},"Cat 4",{"$f":"+Signatures!B66","v":7},{"$f":"+Signatures!C66","v":0}]
[{"$f":"+Signatures!$B$2","v":"Enter event name here…"},"Cat 4",{"$f":"+Signatures!B67","v":8},{"$f":"+Signatures!C67","v":0}]
[{"$f":"+Signatures!$B$2","v":"Enter event name here…"},"Cat 4",{"$f":"+Signatures!B68","v":9},{"$f":"+Signatures!C68","v":0}]
[{"$f":"+Signatures!$B$2","v":"Enter event name here…"},"Cat 4",{"$f":"+Signatures!B69","v":10},{"$f":"+Signatures!C69","v":0}]
[{"$f":"+Signatures!$B$2","v":"Enter event name here…"},"Cat 4",{"$f":"+Signatures!B70","v":11},{"$f":"+Signatures!C70","v":0}]
[{"$f":"+Signatures!$B$2","v":"Enter event name here…"},"Cat 4",{"$f":"+Signatures!B71","v":12},{"$f":"+Signatures!C71","v":0}]
[{"$f":"+Signatures!$B$2","v":"Enter event name here…"},"Cat 4",{"$f":"+Signatures!B72","v":13},{"$f":"+Signatures!C72","v":0}]
[{"$f":"+Signatures!$B$2","v":"Enter event name here…"},"Cat 4",{"$f":"+Signatures!B73","v":14},{"$f":"+Signatures!C73","v":0}]
[{"$f":"+Signatures!$B$2","v":"Enter event name here…"},"Cat 4",{"$f":"+Signatures!B74","v":15},{"$f":"+Signatures!C74","v":0}]
[{"$f":"+Signatures!$B$2","v":"Enter event name here…"},{"$f":"+Signatures!B77","v":"Masters 30+/40+"},{"$f":"+Signatures!B78","v":1},{"$f":"+Signatures!C78","v":0}]
[{"$f":"+Signatures!$B$2","v":"Enter event name here…"},{"$f":"+B62","v":"Masters 30+/40+"},{"$f":"+Signatures!B79","v":2},{"$f":"+Signatures!C79","v":0}]
[{"$f":"+Signatures!$B$2","v":"Enter event name here…"},"Masters 30+/40+",{"$f":"+Signatures!B80","v":3},{"$f":"+Signatures!C80","v":0}]
[{"$f":"+Signatures!$B$2","v":"Enter event name here…"},"Masters 30+/40+",{"$f":"+Signatures!B81","v":4},{"$f":"+Signatures!C81","v":0}]
[{"$f":"+Signatures!$B$2","v":"Enter event name here…"},"Masters 30+/40+",{"$f":"+Signatures!B82","v":5},{"$f":"+Signatures!C82","v":0}]
[{"$f":"+Signatures!$B$2","v":"Enter event name here…"},"Masters 30+/40+",{"$f":"+Signatures!B83","v":6},{"$f":"+Signatures!C83","v":0}]
[{"$f":"+Signatures!$B$2","v":"Enter event name here…"},"Masters 30+/40+",{"$f":"+Signatures!B84","v":7},{"$f":"+Signatures!C84","v":0}]
[{"$f":"+Signatures!$B$2","v":"Enter event name here…"},"Masters 30+/40+",{"$f":"+Signatures!B85","v":8},{"$f":"+Signatures!C85","v":0}]
[{"$f":"+Signatures!$B$2","v":"Enter event name here…"},"Masters 30+/40+",{"$f":"+Signatures!B86","v":9},{"$f":"+Signatures!C86","v":0}]
[{"$f":"+Signatures!$B$2","v":"Enter event name here…"},"Masters 30+/40+",{"$f":"+Signatures!B87","v":10},{"$f":"+Signatures!C87","v":0}]
[{"$f":"+Signatures!$B$2","v":"Enter event name here…"},"Masters 30+/40+",{"$f":"+Signatures!B88","v":11},{"$f":"+Signatures!C88","v":0}]
[{"$f":"+Signatures!$B$2","v":"Enter event name here…"},"Masters 30+/40+",{"$f":"+Signatures!B89","v":12},{"$f":"+Signatures!C89","v":0}]
[{"$f":"+Signatures!$B$2","v":"Enter event name here…"},"Masters 30+/40+",{"$f":"+Signatures!B90","v":13},{"$f":"+Signatures!C90","v":0}]
[{"$f":"+Signatures!$B$2","v":"Enter event name here…"},"Masters 30+/40+",{"$f":"+Signatures!B91","v":14},{"$f":"+Signatures!C91","v":0}]
[{"$f":"+Signatures!$B$2","v":"Enter event name here…"},"Masters 30+/40+",{"$f":"+Signatures!B92","v":15},{"$f":"+Signatures!C92","v":0}]
[{"$f":"+Signatures!$B$2","v":"Enter event name here…"},{"$f":"+Signatures!B95","v":"Masters 40+ Bonus"},{"$f":"+Signatures!B96","v":1},{"$f":"+Signatures!C96","v":0}]
[{"$f":"+Signatures!$B$2","v":"Enter event name here…"},{"$f":"+B77","v":"Masters 40+ Bonus"},{"$f":"+Signatures!B97","v":2},{"$f":"+Signatures!C97","v":0}]
[{"$f":"+Signatures!$B$2","v":"Enter event name here…"},"Masters 40+ Bonus",{"$f":"+Signatures!B98","v":3},{"$f":"+Signatures!C98","v":0}]
[{"$f":"+Signatures!$B$2","v":"Enter event name here…"},"Masters 40+ Bonus",{"$f":"+Signatures!B99","v":4},{"$f":"+Signatures!C99","v":0}]
[{"$f":"+Signatures!$B$2","v":"Enter event name here…"},"Masters 40+ Bonus",{"$f":"+Signatures!B100","v":5},{"$f":"+Signatures!C100","v":0}]
[{"$f":"+Signatures!$B$2","v":"Enter event name here…"},"Masters 40+ Bonus",{"$f":"+Signatures!B101","v":6},{"$f":"+Signatures!C101","v":0}]
[{"$f":"+Signatures!$B$2","v":"Enter event name here…"},"Masters 40+ Bonus",{"$f":"+Signatures!B102","v":7},{"$f":"+Signatures!C102","v":0}]
[{"$f":"+Signatures!$B$2","v":"Enter event name here…"},"Masters 40+ Bonus",{"$f":"+Signatures!B103","v":8},{"$f":"+Signatures!C103","v":0}]
[{"$f":"+Signatures!$B$2","v":"Enter event name here…"},"Masters 40+ Bonus",{"$f":"+Signatures!B104","v":9},{"$f":"+Signatures!C104","v":0}]
[{"$f":"+Signatures!$B$2","v":"Enter event name here…"},"Masters 40+ Bonus",{"$f":"+Signatures!B105","v":10},{"$f":"+Signatures!C105","v":0}]
[{"$f":"+Signatures!$B$2","v":"Enter event name here…"},"Masters 40+ Bonus",{"$f":"+Signatures!B106","v":11},{"$f":"+Signatures!C106","v":0}]
[{"$f":"+Signatures!$B$2","v":"Enter event name here…"},"Masters 40+ Bonus",{"$f":"+Signatures!B107","v":12},{"$f":"+Signatures!C107","v":0}]
[{"$f":"+Signatures!$B$2","v":"Enter event name here…"},"Masters 40+ Bonus",{"$f":"+Signatures!B108","v":13},{"$f":"+Signatures!C108","v":0}]
[{"$f":"+Signatures!$B$2","v":"Enter event name here…"},"Masters 40+ Bonus",{"$f":"+Signatures!B109","v":14},{"$f":"+Signatures!C109","v":0}]
[{"$f":"+Signatures!$B$2","v":"Enter event name here…"},"Masters 40+ Bonus",{"$f":"+Signatures!B110","v":15},{"$f":"+Signatures!C110","v":0}]
[{"$f":"+Signatures!$B$2","v":"Enter event name here…"},{"$f":"+Signatures!B113","v":"Masters 50+/60+"},{"$f":"+Signatures!B114","v":1},{"$f":"+Signatures!C114","v":0}]
[{"$f":"+Signatures!$B$2","v":"Enter event name here…"},{"$f":"+B92","v":"Masters 50+/60+"},{"$f":"+Signatures!B115","v":2},{"$f":"+Signatures!C115","v":0}]
[{"$f":"+Signatures!$B$2","v":"Enter event name here…"},"Masters 50+/60+",{"$f":"+Signatures!B116","v":3},{"$f":"+Signatures!C116","v":0}]
[{"$f":"+Signatures!$B$2","v":"Enter event name here…"},"Masters 50+/60+",{"$f":"+Signatures!B117","v":4},{"$f":"+Signatures!C117","v":0}]
[{"$f":"+Signatures!$B$2","v":"Enter event name here…"},"Masters 50+/60+",{"$f":"+Signatures!B118","v":5},{"$f":"+Signatures!C118","v":0}]
[{"$f":"+Signatures!$B$2","v":"Enter event name here…"},"Masters 50+/60+",{"$f":"+Signatures!B119","v":6},{"$f":"+Signatures!C119","v":0}]
[{"$f":"+Signatures!$B$2","v":"Enter event name here…"},"Masters 50+/60+",{"$f":"+Signatures!B120","v":7},{"$f":"+Signatures!C120","v":0}]
[{"$f":"+Signatures!$B$2","v":"Enter event name here…"},"Masters 50+/60+",{"$f":"+Signatures!B121","v":8},{"$f":"+Signatures!C121","v":0}]
[{"$f":"+Signatures!$B$2","v":"Enter event name here…"},"Masters 50+/60+",{"$f":"+Signatures!B122","v":9},{"$f":"+Signatures!C122","v":0}]
[{"$f":"+Signatures!$B$2","v":"Enter event name here…"},"Masters 50+/60+",{"$f":"+Signatures!B123","v":10},{"$f":"+Signatures!C123","v":0}]
[{"$f":"+Signatures!$B$2","v":"Enter event name here…"},"Masters 50+/60+",{"$f":"+Signatures!B124","v":11},{"$f":"+Signatures!C124","v":0}]
[{"$f":"+Signatures!$B$2","v":"Enter event name here…"},"Masters 50+/60+",{"$f":"+Signatures!B125","v":12},{"$f":"+Signatures!C125","v":0}]
[{"$f":"+Signatures!$B$2","v":"Enter event name here…"},"Masters 50+/60+",{"$f":"+Signatures!B126","v":13},{"$f":"+Signatures!C126","v":0}]
[{"$f":"+Signatures!$B$2","v":"Enter event name here…"},"Masters 50+/60+",{"$f":"+Signatures!B127","v":14},{"$f":"+Signatures!C127","v":0}]
[{"$f":"+Signatures!$B$2","v":"Enter event name here…"},"Masters 50+/60+",{"$f":"+Signatures!B128","v":15},{"$f":"+Signatures!C128","v":0}]
[{"$f":"+Signatures!$B$2","v":"Enter event name here…"},{"$f":"+Signatures!B131","v":"Masters 60+ Bonus"},{"$f":"+Signatures!B132","v":1},{"$f":"+Signatures!C132","v":0}]
[{"$f":"+Signatures!$B$2","v":"Enter event name here…"},{"$f":"+B107","v":"Masters 60+ Bonus"},{"$f":"+Signatures!B133","v":2},{"$f":"+Signatures!C133","v":0}]
[{"$f":"+Signatures!$B$2","v":"Enter event name here…"},"Masters 60+ Bonus",{"$f":"+Signatures!B134","v":3},{"$f":"+Signatures!C134","v":0}]
[{"$f":"+Signatures!$B$2","v":"Enter event name here…"},"Masters 60+ Bonus",{"$f":"+Signatures!B135","v":4},{"$f":"+Signatures!C135","v":0}]
[{"$f":"+Signatures!$B$2","v":"Enter event name here…"},"Masters 60+ Bonus",{"$f":"+Signatures!B136","v":5},{"$f":"+Signatures!C136","v":0}]
[{"$f":"+Signatures!$B$2","v":"Enter event name here…"},"Masters 60+ Bonus",{"$f":"+Signatures!B137","v":6},{"$f":"+Signatures!C137","v":0}]
[{"$f":"+Signatures!$B$2","v":"Enter event name here…"},"Masters 60+ Bonus",{"$f":"+Signatures!B138","v":7},{"$f":"+Signatures!C138","v":0}]
[{"$f":"+Signatures!$B$2","v":"Enter event name here…"},"Masters 60+ Bonus",{"$f":"+Signatures!B139","v":8},{"$f":"+Signatures!C139","v":0}]
[{"$f":"+Signatures!$B$2","v":"Enter event name here…"},"Masters 60+ Bonus",{"$f":"+Signatures!B140","v":9},{"$f":"+Signatures!C140","v":0}]
[{"$f":"+Signatures!$B$2","v":"Enter event name here…"},"Masters 60+ Bonus",{"$f":"+Signatures!B141","v":10},{"$f":"+Signatures!C141","v":0}]
[{"$f":"+Signatures!$B$2","v":"Enter event name here…"},"Masters 60+ Bonus",{"$f":"+Signatures!B142","v":11},{"$f":"+Signatures!C142","v":0}]
[{"$f":"+Signatures!$B$2","v":"Enter event name here…"},"Masters 60+ Bonus",{"$f":"+Signatures!B143","v":12},{"$f":"+Signatures!C143","v":0}]
[{"$f":"+Signatures!$B$2","v":"Enter event name here…"},"Masters 60+ Bonus",{"$f":"+Signatures!B144","v":13},{"$f":"+Signatures!C144","v":0}]
[{"$f":"+Signatures!$B$2","v":"Enter event name here…"},"Masters 60+ Bonus",{"$f":"+Signatures!B145","v":14},{"$f":"+Signatures!C145","v":0}]
[{"$f":"+Signatures!$B$2","v":"Enter event name here…"},"Masters 60+ Bonus",{"$f":"+Signatures!B146","v":15},{"$f":"+Signatures!C146","v":0}]
[{"$f":"+Signatures!$B$2","v":"Enter event name here…"},{"$f":"+Signatures!B149","v":"Juniors"},{"$f":"+Signatures!B150","v":1},{"$f":"+Signatures!C150","v":0}]
[{"$f":"+Signatures!$B$2","v":"Enter event name here…"},{"$f":"+B122","v":"Juniors"},{"$f":"+Signatures!B151","v":2},{"$f":"+Signatures!C151","v":0}]
[{"$f":"+Signatures!$B$2","v":"Enter event name here…"},"Juniors",{"$f":"+Signatures!B152","v":3},{"$f":"+Signatures!C152","v":0}]
[{"$f":"+Signatures!$B$2","v":"Enter event name here…"},"Juniors",{"$f":"+Signatures!B153","v":4},{"$f":"+Signatures!C153","v":0}]
[{"$f":"+Signatures!$B$2","v":"Enter event name here…"},"Juniors",{"$f":"+Signatures!B154","v":5},{"$f":"+Signatures!C154","v":0}]
[{"$f":"+Signatures!$B$2","v":"Enter event name here…"},"Juniors",{"$f":"+Signatures!B155","v":6},{"$f":"+Signatures!C155","v":0}]
[{"$f":"+Signatures!$B$2","v":"Enter event name here…"},"Juniors",{"$f":"+Signatures!B156","v":7},{"$f":"+Signatures!C156","v":0}]
[{"$f":"+Signatures!$B$2","v":"Enter event name here…"},"Juniors",{"$f":"+Signatures!B157","v":8},{"$f":"+Signatures!C157","v":0}]
[{"$f":"+Signatures!$B$2","v":"Enter event name here…"},"Juniors",{"$f":"+Signatures!B158","v":9},{"$f":"+Signatures!C158","v":0}]
[{"$f":"+Signatures!$B$2","v":"Enter event name here…"},"Juniors",{"$f":"+Signatures!B159","v":10},{"$f":"+Signatures!C159","v":0}]
[{"$f":"+Signatures!$B$2","v":"Enter event name here…"},"Juniors",{"$f":"+Signatures!B160","v":11},{"$f":"+Signatures!C160","v":0}]
[{"$f":"+Signatures!$B$2","v":"Enter event name here…"},"Juniors",{"$f":"+Signatures!B161","v":12},{"$f":"+Signatures!C161","v":0}]
[{"$f":"+Signatures!$B$2","v":"Enter event name here…"},"Juniors",{"$f":"+Signatures!B162","v":13},{"$f":"+Signatures!C162","v":0}]
[{"$f":"+Signatures!$B$2","v":"Enter event name here…"},"Juniors",{"$f":"+Signatures!B163","v":14},{"$f":"+Signatures!C163","v":0}]
[{"$f":"+Signatures!$B$2","v":"Enter event name here…"},"Juniors",{"$f":"+Signatures!B164","v":15},{"$f":"+Signatures!C164","v":0}]
[{"$f":"+Signatures!$B$2","v":"Enter event name here…"},{"$f":"+Signatures!B167","v":"Women 1/2/3"},{"$f":"+Signatures!B168","v":1},{"$f":"+Signatures!C168","v":0}]
[{"$f":"+Signatures!$B$2","v":"Enter event name here…"},{"$f":"+B137","v":"Women 1/2/3"},{"$f":"+Signatures!B169","v":2},{"$f":"+Signatures!C169","v":0}]
[{"$f":"+Signatures!$B$2","v":"Enter event name here…"},"Women 1/2/3",{"$f":"+Signatures!B170","v":3},{"$f":"+Signatures!C170","v":0}]
[{"$f":"+Signatures!$B$2","v":"Enter event name here…"},"Women 1/2/3",{"$f":"+Signatures!B171","v":4},{"$f":"+Signatures!C171","v":0}]
[{"$f":"+Signatures!$B$2","v":"Enter event name here…"},"Women 1/2/3",{"$f":"+Signatures!B172","v":5},{"$f":"+Signatures!C172","v":0}]
[{"$f":"+Signatures!$B$2","v":"Enter event name here…"},"Women 1/2/3",{"$f":"+Signatures!B173","v":6},{"$f":"+Signatures!C173","v":0}]
[{"$f":"+Signatures!$B$2","v":"Enter event name here…"},"Women 1/2/3",{"$f":"+Signatures!B174","v":7},{"$f":"+Signatures!C174","v":0}]
[{"$f":"+Signatures!$B$2","v":"Enter event name here…"},"Women 1/2/3",{"$f":"+Signatures!B175","v":8},{"$f":"+Signatures!C175","v":0}]
[{"$f":"+Signatures!$B$2","v":"Enter event name here…"},"Women 1/2/3",{"$f":"+Signatures!B176","v":9},{"$f":"+Signatures!C176","v":0}]
[{"$f":"+Signatures!$B$2","v":"Enter event name here…"},"Women 1/2/3",{"$f":"+Signatures!B177","v":10},{"$f":"+Signatures!C177","v":0}]
[{"$f":"+Signatures!$B$2","v":"Enter event name here…"},"Women 1/2/3",{"$f":"+Signatures!B178","v":11},{"$f":"+Signatures!C178","v":0}]
[{"$f":"+Signatures!$B$2","v":"Enter event name here…"},"Women 1/2/3",{"$f":"+Signatures!B179","v":12},{"$f":"+Signatures!C179","v":0}]
[{"$f":"+Signatures!$B$2","v":"Enter event name here…"},"Women 1/2/3",{"$f":"+Signatures!B180","v":13},{"$f":"+Signatures!C180","v":0}]
[{"$f":"+Signatures!$B$2","v":"Enter event name here…"},"Women 1/2/3",{"$f":"+Signatures!B181","v":14},{"$f":"+Signatures!C181","v":0}]
[{"$f":"+Signatures!$B$2","v":"Enter event name here…"},"Women 1/2/3",{"$f":"+Signatures!B182","v":15},{"$f":"+Signatures!C182","v":0}]
[{"$f":"+Signatures!$B$2","v":"Enter event name here…"},{"$f":"+Signatures!B185","v":"Women 4"},{"$f":"+Signatures!B186","v":1},{"$f":"+Signatures!C186","v":0}]
[{"$f":"+Signatures!$B$2","v":"Enter event name here…"},{"$f":"+B152","v":"Women 4"},{"$f":"+Signatures!B187","v":2},{"$f":"+Signatures!C187","v":0}]
[{"$f":"+Signatures!$B$2","v":"Enter event name here…"},"Women 4",{"$f":"+Signatures!B188","v":3},{"$f":"+Signatures!C188","v":0}]
[{"$f":"+Signatures!$B$2","v":"Enter event name here…"},"Women 4",{"$f":"+Signatures!B189","v":4},{"$f":"+Signatures!C189","v":0}]
[{"$f":"+Signatures!$B$2","v":"Enter event name here…"},"Women 4",{"$f":"+Signatures!B190","v":5},{"$f":"+Signatures!C190","v":0}]
[{"$f":"+Signatures!$B$2","v":"Enter event name here…"},"Women 4",{"$f":"+Signatures!B191","v":6},{"$f":"+Signatures!C191","v":0}]
[{"$f":"+Signatures!$B$2","v":"Enter event name here…"},"Women 4",{"$f":"+Signatures!B192","v":7},{"$f":"+Signatures!C192","v":0}]
[{"$f":"+Signatures!$B$2","v":"Enter event name here…"},"Women 4",{"$f":"+Signatures!B193","v":8},{"$f":"+Signatures!C193","v":0}]
[{"$f":"+Signatures!$B$2","v":"Enter event name here…"},"Women 4",{"$f":"+Signatures!B194","v":9},{"$f":"+Signatures!C194","v":0}]
[{"$f":"+Signatures!$B$2","v":"Enter event name here…"},"Women 4",{"$f":"+Signatures!B195","v":10},{"$f":"+Signatures!C195","v":0}]
[{"$f":"+Signatures!$B$2","v":"Enter event name here…"},"Women 4",{"$f":"+Signatures!B196","v":11},{"$f":"+Signatures!C196","v":0}]
[{"$f":"+Signatures!$B$2","v":"Enter event name here…"},"Women 4",{"$f":"+Signatures!B197","v":12},{"$f":"+Signatures!C197","v":0}]
[{"$f":"+Signatures!$B$2","v":"Enter event name here…"},"Women 4",{"$f":"+Signatures!B198","v":13},{"$f":"+Signatures!C198","v":0}]
[{"$f":"+Signatures!$B$2","v":"Enter event name here…"},"Women 4",{"$f":"+Signatures!B199","v":14},{"$f":"+Signatures!C199","v":0}]
[{"$f":"+Signatures!$B$2","v":"Enter event name here…"},"Women 4",{"$f":"+Signatures!B200","v":15},{"$f":"+Signatures!C200","v":0}]

{"sheet":"Bank_Table","index":6,"n_rows":22,"n_cols":5,"rows_kept":22,"cut":false,"hidden":true,"merged":[]}
[]
[null,null,20,10,5]
[null,95,4,1,1]
[null,{"$f":"+B3-5","v":90},4,1,0]
[null,{"$f":"+B4-5","v":85},4,0,1]
[null,80,4,0,0]
[null,75,3,1,1]
[null,70,3,1,0]
[null,65,3,0,1]
[null,60,3,0,0]
[null,55,2,1,1]
[null,50,2,1,0]
[null,45,2,0,1]
[null,40,2,0,0]
[null,35,1,1,1]
[null,30,1,1,0]
[null,25,1,0,1]
[null,20,1,0,0]
[null,15,0,1,1]
[null,10,0,1,0]
[null,5,0,0,1]
[null,0,0,0,0]

{"sheet":"Bank_Exhibit","index":7,"n_rows":8,"n_cols":4,"rows_kept":8,"cut":false,"hidden":false,"merged":[]}
[]
[]
[]
[null,"Denomination","Quantity","Amount"]
[null,{"$f":"+Bank_Calc!C4","v":20},{"$f":"+Bank_Calc!C2","v":0},{"$f":"+B5*C5","v":0}]
[null,{"$f":"+Bank_Calc!D4","v":10},{"$f":"+Bank_Calc!D2","v":0},{"$f":"+B6*C6","v":0}]
[null,{"$f":"+Bank_Calc!E4","v":5},{"$f":"+Bank_Calc!E2","v":0},{"$f":"+B7*C7","v":0}]
[null,"Total:",null,{"$f":"SUM(D5:D7)","v":0}]

{"sheet":"Bank_Calc","index":8,"n_rows":169,"n_cols":5,"rows_kept":169,"cut":false,"hidden":false,"merged":[]}
["*** Internal Calculations (Ignore) ***"]
["Quantity Total:",null,{"$f":"SUM(C5:C169)","v":0},{"$f":"SUM(D5:D169)","v":0},{"$f":"SUM(E5:E169)","v":0}]
[]
["Payout",100,20,10,5]
[{"$f":"+MailMerge!D2","v":0},{"$f":"INT(A5/B$4)*B$4","v":0},{"$f":"+$B5/C$4+VLOOKUP($A5-$B5,Bank_Table!$B$3:$E$22,2,FALSE)","v":0},{"$f":"VLOOKUP($A5-$B5,Bank_Table!$B$3:$E$22,3,FALSE)","v":0},{"$f":"VLOOKUP($A5-$B5,Bank_Table!$B$3:$E$22,4,FALSE)","v":0}]
[{"$f":"+MailMerge!D3","v":0},{"$f":"INT(A6/B$4)*B$4","v":0},{"$f":"+$B6/C$4+VLOOKUP($A6-$B6,Bank_Table!$B$3:$E$22,2,FALSE)","v":0},{"$f":"VLOOKUP($A6-$B6,Bank_Table!$B$3:$E$22,3,FALSE)","v":0},{"$f":"VLOOKUP($A6-$B6,Bank_Table!$B$3:$E$22,4,FALSE)","v":0}]
[{"$f":"+MailMerge!D4","v":0},0,{"$f":"+$B7/C$4+VLOOKUP($A7-$B7,Bank_Table!$B$3:$E$22,2,FALSE)","v":0},{"$f":"VLOOKUP($A7-$B7,Bank_Table!$B$3:$E$22,3,FALSE)","v":0},{"$f":"VLOOKUP($A7-$B7,Bank_Table!$B$3:$E$22,4,FALSE)","v":0}]
[{"$f":"+MailMerge!D5","v":0},0,{"$f":"+$B8/C$4+VLOOKUP($A8-$B8,Bank_Table!$B$3:$E$22,2,FALSE)","v":0},{"$f":"VLOOKUP($A8-$B8,Bank_Table!$B$3:$E$22,3,FALSE)","v":0},{"$f":"VLOOKUP($A8-$B8,Bank_Table!$B$3:$E$22,4,FALSE)","v":0}]
[{"$f":"+MailMerge!D6","v":0},0,{"$f":"+$B9/C$4+VLOOKUP($A9-$B9,Bank_Table!$B$3:$E$22,2,FALSE)","v":0},{"$f":"VLOOKUP($A9-$B9,Bank_Table!$B$3:$E$22,3,FALSE)","v":0},{"$f":"VLOOKUP($A9-$B9,Bank_Table!$B$3:$E$22,4,FALSE)","v":0}]
[{"$f":"+MailMerge!D7","v":0},0,{"$f":"+$B10/C$4+VLOOKUP($A10-$B10,Bank_Table!$B$3:$E$22,2,FALSE)","v":0},{"$f":"VLOOKUP($A10-$B10,Bank_Table!$B$3:$E$22,3,FALSE)","v":0},{"$f":"VLOOKUP($A10-$B10,Bank_Table!$B$3:$E$22,4,FALSE)","v":0}]
[{"$f":"+MailMerge!D8","v":0},0,{"$f":"+$B11/C$4+VLOOKUP($A11-$B11,Bank_Table!$B$3:$E$22,2,FALSE)","v":0},{"$f":"VLOOKUP($A11-$B11,Bank_Table!$B$3:$E$22,3,FALSE)","v":0},{"$f":"VLOOKUP($A11-$B11,Bank_Table!$B$3:$E$22,4,FALSE)","v":0}]
[{"$f":"+MailMerge!D9","v":0},0,{"$f":"+$B12/C$4+VLOOKUP($A12-$B12,Bank_Table!$B$3:$E$22,2,FALSE)","v":0},{"$f":"VLOOKUP($A12-$B12,Bank_Table!$B$3:$E$22,3,FALSE)","v":0},{"$f":"VLOOKUP($A12-$B12,Bank_Table!$B$3:$E$22,4,FALSE)","v":0}]
[{"$f":"+MailMerge!D10","v":0},0,{"$f":"+$B13/C$4+VLOOKUP($A13-$B13,Bank_Table!$B$3:$E$22,2,FALSE)","v":0},{"$f":"VLOOKUP($A13-$B13,Bank_Table!$B$3:$E$22,3,FALSE)","v":0},{"$f":"VLOOKUP($A13-$B13,Bank_Table!$B$3:$E$22,4,FALSE)","v":0}]
[{"$f":"+MailMerge!D11","v":0},0,{"$f":"+$B14/C$4+VLOOKUP($A14-$B14,Bank_Table!$B$3:$E$22,2,FALSE)","v":0},{"$f":"VLOOKUP($A14-$B14,Bank_Table!$B$3:$E$22,3,FALSE)","v":0},{"$f":"VLOOKUP($A14-$B14,Bank_Table!$B$3:$E$22,4,FALSE)","v":0}]
[{"$f":"+MailMerge!D12","v":0},0,{"$f":"+$B15/C$4+VLOOKUP($A15-$B15,Bank_Table!$B$3:$E$22,2,FALSE)","v":0},{"$f":"VLOOKUP($A15-$B15,Bank_Table!$B$3:$E$22,3,FALSE)","v":0},{"$f":"VLOOKUP($A15-$B15,Bank_Table!$B$3:$E$22,4,FALSE)","v":0}]
[{"$f":"+MailMerge!D13","v":0},0,{"$f":"+$B16/C$4+VLOOKUP($A16-$B16,Bank_Table!$B$3:$E$22,2,FALSE)","v":0},{"$f":"VLOOKUP($A16-$B16,Bank_Table!$B$3:$E$22,3,FALSE)","v":0},{"$f":"VLOOKUP($A16-$B16,Bank_Table!$B$3:$E$22,4,FALSE)","v":0}]
[{"$f":"+MailMerge!D14","v":0},0,{"$f":"+$B17/C$4+VLOOKUP($A17-$B17,Bank_Table!$B$3:$E$22,2,FALSE)","v":0},{"$f":"VLOOKUP($A17-$B17,Bank_Table!$B$3:$E$22,3,FALSE)","v":0},{"$f":"VLOOKUP($A17-$B17,Bank_Table!$B$3:$E$22,4,FALSE)","v":0}]
[{"$f":"+MailMerge!D15","v":0},0,{"$f":"+$B18/C$4+VLOOKUP($A18-$B18,Bank_Table!$B$3:$E$22,2,FALSE)","v":0},{"$f":"VLOOKUP($A18-$B18,Bank_Table!$B$3:$E$22,3,FALSE)","v":0},{"$f":"VLOOKUP($A18-$B18,Bank_Table!$B$3:$E$22,4,FALSE)","v":0}]
[{"$f":"+MailMerge!D16","v":0},0,{"$f":"+$B19/C$4+VLOOKUP($A19-$B19,Bank_Table!$B$3:$E$22,2,FALSE)","v":0},{"$f":"VLOOKUP($A19-$B19,Bank_Table!$B$3:$E$22,3,FALSE)","v":0},{"$f":"VLOOKUP($A19-$B19,Bank_Table!$B$3:$E$22,4,FALSE)","v":0}]
[{"$f":"+MailMerge!D17","v":0},0,{"$f":"+$B20/C$4+VLOOKUP($A20-$B20,Bank_Table!$B$3:$E$22,2,FALSE)","v":0},{"$f":"VLOOKUP($A20-$B20,Bank_Table!$B$3:$E$22,3,FALSE)","v":0},{"$f":"VLOOKUP($A20-$B20,Bank_Table!$B$3:$E$22,4,FALSE)","v":0}]
[{"$f":"+MailMerge!D18","v":0},0,{"$f":"+$B21/C$4+VLOOKUP($A21-$B21,Bank_Table!$B$3:$E$22,2,FALSE)","v":0},{"$f":"VLOOKUP($A21-$B21,Bank_Table!$B$3:$E$22,3,FALSE)","v":0},{"$f":"VLOOKUP($A21-$B21,Bank_Table!$B$3:$E$22,4,FALSE)","v":0}]
[{"$f":"+MailMerge!D19","v":0},0,{"$f":"+$B22/C$4+VLOOKUP($A22-$B22,Bank_Table!$B$3:$E$22,2,FALSE)","v":0},{"$f":"VLOOKUP($A22-$B22,Bank_Table!$B$3:$E$22,3,FALSE)","v":0},{"$f":"VLOOKUP($A22-$B22,Bank_Table!$B$3:$E$22,4,FALSE)","v":0}]
[{"$f":"+MailMerge!D20","v":0},0,{"$f":"+$B23/C$4+VLOOKUP($A23-$B23,Bank_Table!$B$3:$E$22,2,FALSE)","v":0},{"$f":"VLOOKUP($A23-$B23,Bank_Table!$B$3:$E$22,3,FALSE)","v":0},{"$f":"VLOOKUP($A23-$B23,Bank_Table!$B$3:$E$22,4,FALSE)","v":0}]
[{"$f":"+MailMerge!D21","v":0},0,{"$f":"+$B24/C$4+VLOOKUP($A24-$B24,Bank_Table!$B$3:$E$22,2,FALSE)","v":0},{"$f":"VLOOKUP($A24-$B24,Bank_Table!$B$3:$E$22,3,FALSE)","v":0},{"$f":"VLOOKUP($A24-$B24,Bank_Table!$B$3:$E$22,4,FALSE)","v":0}]
[{"$f":"+MailMerge!D22","v":0},0,{"$f":"+$B25/C$4+VLOOKUP($A25-$B25,Bank_Table!$B$3:$E$22,2,FALSE)","v":0},{"$f":"VLOOKUP($A25-$B25,Bank_Table!$B$3:$E$22,3,FALSE)","v":0},{"$f":"VLOOKUP($A25-$B25,Bank_Table!$B$3:$E$22,4,FALSE)","v":0}]
[{"$f":"+MailMerge!D23","v":0},0,{"$f":"+$B26/C$4+VLOOKUP($A26-$B26,Bank_Table!$B$3:$E$22,2,FALSE)","v":0},{"$f":"VLOOKUP($A26-$B26,Bank_Table!$B$3:$E$22,3,FALSE)","v":0},{"$f":"VLOOKUP($A26-$B26,Bank_Table!$B$3:$E$22,4,FALSE)","v":0}]
[{"$f":"+MailMerge!D24","v":0},0,{"$f":"+$B27/C$4+VLOOKUP($A27-$B27,Bank_Table!$B$3:$E$22,2,FALSE)","v":0},{"$f":"VLOOKUP($A27-$B27,Bank_Table!$B$3:$E$22,3,FALSE)","v":0},{"$f":"VLOOKUP($A27-$B27,Bank_Table!$B$3:$E$22,4,FALSE)","v":0}]
[{"$f":"+MailMerge!D25","v":0},0,{"$f":"+$B28/C$4+VLOOKUP($A28-$B28,Bank_Table!$B$3:$E$22,2,FALSE)","v":0},{"$f":"VLOOKUP($A28-$B28,Bank_Table!$B$3:$E$22,3,FALSE)","v":0},{"$f":"VLOOKUP($A28-$B28,Bank_Table!$B$3:$E$22,4,FALSE)","v":0}]
[{"$f":"+MailMerge!D26","v":0},0,{"$f":"+$B29/C$4+VLOOKUP($A29-$B29,Bank_Table!$B$3:$E$22,2,FALSE)","v":0},{"$f":"VLOOKUP($A29-$B29,Bank_Table!$B$3:$E$22,3,FALSE)","v":0},{"$f":"VLOOKUP($A29-$B29,Bank_Table!$B$3:$E$22,4,FALSE)","v":0}]
[{"$f":"+MailMerge!D27","v":0},0,{"$f":"+$B30/C$4+VLOOKUP($A30-$B30,Bank_Table!$B$3:$E$22,2,FALSE)","v":0},{"$f":"VLOOKUP($A30-$B30,Bank_Table!$B$3:$E$22,3,FALSE)","v":0},{"$f":"VLOOKUP($A30-$B30,Bank_Table!$B$3:$E$22,4,FALSE)","v":0}]
[{"$f":"+MailMerge!D28","v":0},0,{"$f":"+$B31/C$4+VLOOKUP($A31-$B31,Bank_Table!$B$3:$E$22,2,FALSE)","v":0},{"$f":"VLOOKUP($A31-$B31,Bank_Table!$B$3:$E$22,3,FALSE)","v":0},{"$f":"VLOOKUP($A31-$B31,Bank_Table!$B$3:$E$22,4,FALSE)","v":0}]
[{"$f":"+MailMerge!D29","v":0},0,{"$f":"+$B32/C$4+VLOOKUP($A32-$B32,Bank_Table!$B$3:$E$22,2,FALSE)","v":0},{"$f":"VLOOKUP($A32-$B32,Bank_Table!$B$3:$E$22,3,FALSE)","v":0},{"$f":"VLOOKUP($A32-$B32,Bank_Table!$B$3:$E$22,4,FALSE)","v":0}]
[{"$f":"+MailMerge!D30","v":0},0,{"$f":"+$B33/C$4+VLOOKUP($A33-$B33,Bank_Table!$B$3:$E$22,2,FALSE)","v":0},{"$f":"VLOOKUP($A33-$B33,Bank_Table!$B$3:$E$22,3,FALSE)","v":0},{"$f":"VLOOKUP($A33-$B33,Bank_Table!$B$3:$E$22,4,FALSE)","v":0}]
[{"$f":"+MailMerge!D31","v":0},0,{"$f":"+$B34/C$4+VLOOKUP($A34-$B34,Bank_Table!$B$3:$E$22,2,FALSE)","v":0},{"$f":"VLOOKUP($A34-$B34,Bank_Table!$B$3:$E$22,3,FALSE)","v":0},{"$f":"VLOOKUP($A34-$B34,Bank_Table!$B$3:$E$22,4,FALSE)","v":0}]
[{"$f":"+MailMerge!D32","v":0},0,{"$f":"+$B35/C$4+VLOOKUP($A35-$B35,Bank_Table!$B$3:$E$22,2,FALSE)","v":0},{"$f":"VLOOKUP($A35-$B35,Bank_Table!$B$3:$E$22,3,FALSE)","v":0},{"$f":"VLOOKUP($A35-$B35,Bank_Table!$B$3:$E$22,4,FALSE)","v":0}]
[{"$f":"+MailMerge!D33","v":0},0,{"$f":"+$B36/C$4+VLOOKUP($A36-$B36,Bank_Table!$B$3:$E$22,2,FALSE)","v":0},{"$f":"VLOOKUP($A36-$B36,Bank_Table!$B$3:$E$22,3,FALSE)","v":0},{"$f":"VLOOKUP($A36-$B36,Bank_Table!$B$3:$E$22,4,FALSE)","v":0}]
[{"$f":"+MailMerge!D34","v":0},0,{"$f":"+$B37/C$4+VLOOKUP($A37-$B37,Bank_Table!$B$3:$E$22,2,FALSE)","v":0},{"$f":"VLOOKUP($A37-$B37,Bank_Table!$B$3:$E$22,3,FALSE)","v":0},{"$f":"VLOOKUP($A37-$B37,Bank_Table!$B$3:$E$22,4,FALSE)","v":0}]
[{"$f":"+MailMerge!D35","v":0},0,{"$f":"+$B38/C$4+VLOOKUP($A38-$B38,Bank_Table!$B$3:$E$22,2,FALSE)","v":0},{"$f":"VLOOKUP($A38-$B38,Bank_Table!$B$3:$E$22,3,FALSE)","v":0},{"$f":"VLOOKUP($A38-$B38,Bank_Table!$B$3:$E$22,4,FALSE)","v":0}]
[{"$f":"+MailMerge!D36","v":0},0,{"$f":"+$B39/C$4+VLOOKUP($A39-$B39,Bank_Table!$B$3:$E$22,2,FALSE)","v":0},{"$f":"VLOOKUP($A39-$B39,Bank_Table!$B$3:$E$22,3,FALSE)","v":0},{"$f":"VLOOKUP($A39-$B39,Bank_Table!$B$3:$E$22,4,FALSE)","v":0}]
[{"$f":"+MailMerge!D37","v":0},0,{"$f":"+$B40/C$4+VLOOKUP($A40-$B40,Bank_Table!$B$3:$E$22,2,FALSE)","v":0},{"$f":"VLOOKUP($A40-$B40,Bank_Table!$B$3:$E$22,3,FALSE)","v":0},{"$f":"VLOOKUP($A40-$B40,Bank_Table!$B$3:$E$22,4,FALSE)","v":0}]
[{"$f":"+MailMerge!D38","v":0},0,{"$f":"+$B41/C$4+VLOOKUP($A41-$B41,Bank_Table!$B$3:$E$22,2,FALSE)","v":0},{"$f":"VLOOKUP($A41-$B41,Bank_Table!$B$3:$E$22,3,FALSE)","v":0},{"$f":"VLOOKUP($A41-$B41,Bank_Table!$B$3:$E$22,4,FALSE)","v":0}]
[{"$f":"+MailMerge!D39","v":0},0,{"$f":"+$B42/C$4+VLOOKUP($A42-$B42,Bank_Table!$B$3:$E$22,2,FALSE)","v":0},{"$f":"VLOOKUP($A42-$B42,Bank_Table!$B$3:$E$22,3,FALSE)","v":0},{"$f":"VLOOKUP($A42-$B42,Bank_Table!$B$3:$E$22,4,FALSE)","v":0}]
[{"$f":"+MailMerge!D40","v":0},0,{"$f":"+$B43/C$4+VLOOKUP($A43-$B43,Bank_Table!$B$3:$E$22,2,FALSE)","v":0},{"$f":"VLOOKUP($A43-$B43,Bank_Table!$B$3:$E$22,3,FALSE)","v":0},{"$f":"VLOOKUP($A43-$B43,Bank_Table!$B$3:$E$22,4,FALSE)","v":0}]
[{"$f":"+MailMerge!D41","v":0},0,{"$f":"+$B44/C$4+VLOOKUP($A44-$B44,Bank_Table!$B$3:$E$22,2,FALSE)","v":0},{"$f":"VLOOKUP($A44-$B44,Bank_Table!$B$3:$E$22,3,FALSE)","v":0},{"$f":"VLOOKUP($A44-$B44,Bank_Table!$B$3:$E$22,4,FALSE)","v":0}]
[{"$f":"+MailMerge!D42","v":0},0,{"$f":"+$B45/C$4+VLOOKUP($A45-$B45,Bank_Table!$B$3:$E$22,2,FALSE)","v":0},{"$f":"VLOOKUP($A45-$B45,Bank_Table!$B$3:$E$22,3,FALSE)","v":0},{"$f":"VLOOKUP($A45-$B45,Bank_Table!$B$3:$E$22,4,FALSE)","v":0}]
[{"$f":"+MailMerge!D43","v":0},0,{"$f":"+$B46/C$4+VLOOKUP($A46-$B46,Bank_Table!$B$3:$E$22,2,FALSE)","v":0},{"$f":"VLOOKUP($A46-$B46,Bank_Table!$B$3:$E$22,3,FALSE)","v":0},{"$f":"VLOOKUP($A46-$B46,Bank_Table!$B$3:$E$22,4,FALSE)","v":0}]
[{"$f":"+MailMerge!D44","v":0},0,{"$f":"+$B47/C$4+VLOOKUP($A47-$B47,Bank_Table!$B$3:$E$22,2,FALSE)","v":0},{"$f":"VLOOKUP($A47-$B47,Bank_Table!$B$3:$E$22,3,FALSE)","v":0},{"$f":"VLOOKUP($A47-$B47,Bank_Table!$B$3:$E$22,4,FALSE)","v":0}]
[{"$f":"+MailMerge!D45","v":0},0,{"$f":"+$B48/C$4+VLOOKUP($A48-$B48,Bank_Table!$B$3:$E$22,2,FALSE)","v":0},{"$f":"VLOOKUP($A48-$B48,Bank_Table!$B$3:$E$22,3,FALSE)","v":0},{"$f":"VLOOKUP($A48-$B48,Bank_Table!$B$3:$E$22,4,FALSE)","v":0}]
[{"$f":"+MailMerge!D46","v":0},0,{"$f":"+$B49/C$4+VLOOKUP($A49-$B49,Bank_Table!$B$3:$E$22,2,FALSE)","v":0},{"$f":"VLOOKUP($A49-$B49,Bank_Table!$B$3:$E$22,3,FALSE)","v":0},{"$f":"VLOOKUP($A49-$B49,Bank_Table!$B$3:$E$22,4,FALSE)","v":0}]
[{"$f":"+MailMerge!D47","v":0},0,{"$f":"+$B50/C$4+VLOOKUP($A50-$B50,Bank_Table!$B$3:$E$22,2,FALSE)","v":0},{"$f":"VLOOKUP($A50-$B50,Bank_Table!$B$3:$E$22,3,FALSE)","v":0},{"$f":"VLOOKUP($A50-$B50,Bank_Table!$B$3:$E$22,4,FALSE)","v":0}]
[{"$f":"+MailMerge!D48","v":0},0,{"$f":"+$B51/C$4+VLOOKUP($A51-$B51,Bank_Table!$B$3:$E$22,2,FALSE)","v":0},{"$f":"VLOOKUP($A51-$B51,Bank_Table!$B$3:$E$22,3,FALSE)","v":0},{"$f":"VLOOKUP($A51-$B51,Bank_Table!$B$3:$E$22,4,FALSE)","v":0}]
[{"$f":"+MailMerge!D49","v":0},0,{"$f":"+$B52/C$4+VLOOKUP($A52-$B52,Bank_Table!$B$3:$E$22,2,FALSE)","v":0},{"$f":"VLOOKUP($A52-$B52,Bank_Table!$B$3:$E$22,3,FALSE)","v":0},{"$f":"VLOOKUP($A52-$B52,Bank_Table!$B$3:$E$22,4,FALSE)","v":0}]
[{"$f":"+MailMerge!D50","v":0},0,{"$f":"+$B53/C$4+VLOOKUP($A53-$B53,Bank_Table!$B$3:$E$22,2,FALSE)","v":0},{"$f":"VLOOKUP($A53-$B53,Bank_Table!$B$3:$E$22,3,FALSE)","v":0},{"$f":"VLOOKUP($A53-$B53,Bank_Table!$B$3:$E$22,4,FALSE)","v":0}]
[{"$f":"+MailMerge!D51","v":0},0,{"$f":"+$B54/C$4+VLOOKUP($A54-$B54,Bank_Table!$B$3:$E$22,2,FALSE)","v":0},{"$f":"VLOOKUP($A54-$B54,Bank_Table!$B$3:$E$22,3,FALSE)","v":0},{"$f":"VLOOKUP($A54-$B54,Bank_Table!$B$3:$E$22,4,FALSE)","v":0}]
[{"$f":"+MailMerge!D52","v":0},0,{"$f":"+$B55/C$4+VLOOKUP($A55-$B55,Bank_Table!$B$3:$E$22,2,FALSE)","v":0},{"$f":"VLOOKUP($A55-$B55,Bank_Table!$B$3:$E$22,3,FALSE)","v":0},{"$f":"VLOOKUP($A55-$B55,Bank_Table!$B$3:$E$22,4,FALSE)","v":0}]
[{"$f":"+MailMerge!D53","v":0},0,{"$f":"+$B56/C$4+VLOOKUP($A56-$B56,Bank_Table!$B$3:$E$22,2,FALSE)","v":0},{"$f":"VLOOKUP($A56-$B56,Bank_Table!$B$3:$E$22,3,FALSE)","v":0},{"$f":"VLOOKUP($A56-$B56,Bank_Table!$B$3:$E$22,4,FALSE)","v":0}]
[{"$f":"+MailMerge!D54","v":0},0,{"$f":"+$B57/C$4+VLOOKUP($A57-$B57,Bank_Table!$B$3:$E$22,2,FALSE)","v":0},{"$f":"VLOOKUP($A57-$B57,Bank_Table!$B$3:$E$22,3,FALSE)","v":0},{"$f":"VLOOKUP($A57-$B57,Bank_Table!$B$3:$E$22,4,FALSE)","v":0}]
[{"$f":"+MailMerge!D55","v":0},0,{"$f":"+$B58/C$4+VLOOKUP($A58-$B58,Bank_Table!$B$3:$E$22,2,FALSE)","v":0},{"$f":"VLOOKUP($A58-$B58,Bank_Table!$B$3:$E$22,3,FALSE)","v":0},{"$f":"VLOOKUP($A58-$B58,Bank_Table!$B$3:$E$22,4,FALSE)","v":0}]
[{"$f":"+MailMerge!D56","v":0},0,{"$f":"+$B59/C$4+VLOOKUP($A59-$B59,Bank_Table!$B$3:$E$22,2,FALSE)","v":0},{"$f":"VLOOKUP($A59-$B59,Bank_Table!$B$3:$E$22,3,FALSE)","v":0},{"$f":"VLOOKUP($A59-$B59,Bank_Table!$B$3:$E$22,4,FALSE)","v":0}]
[{"$f":"+MailMerge!D57","v":0},0,{"$f":"+$B60/C$4+VLOOKUP($A60-$B60,Bank_Table!$B$3:$E$22,2,FALSE)","v":0},{"$f":"VLOOKUP($A60-$B60,Bank_Table!$B$3:$E$22,3,FALSE)","v":0},{"$f":"VLOOKUP($A60-$B60,Bank_Table!$B$3:$E$22,4,FALSE)","v":0}]
[{"$f":"+MailMerge!D58","v":0},0,{"$f":"+$B61/C$4+VLOOKUP($A61-$B61,Bank_Table!$B$3:$E$22,2,FALSE)","v":0},{"$f":"VLOOKUP($A61-$B61,Bank_Table!$B$3:$E$22,3,FALSE)","v":0},{"$f":"VLOOKUP($A61-$B61,Bank_Table!$B$3:$E$22,4,FALSE)","v":0}]
[{"$f":"+MailMerge!D59","v":0},0,{"$f":"+$B62/C$4+VLOOKUP($A62-$B62,Bank_Table!$B$3:$E$22,2,FALSE)","v":0},{"$f":"VLOOKUP($A62-$B62,Bank_Table!$B$3:$E$22,3,FALSE)","v":0},{"$f":"VLOOKUP($A62-$B62,Bank_Table!$B$3:$E$22,4,FALSE)","v":0}]
[{"$f":"+MailMerge!D60","v":0},0,{"$f":"+$B63/C$4+VLOOKUP($A63-$B63,Bank_Table!$B$3:$E$22,2,FALSE)","v":0},{"$f":"VLOOKUP($A63-$B63,Bank_Table!$B$3:$E$22,3,FALSE)","v":0},{"$f":"VLOOKUP($A63-$B63,Bank_Table!$B$3:$E$22,4,FALSE)","v":0}]
[{"$f":"+MailMerge!D61","v":0},0,{"$f":"+$B64/C$4+VLOOKUP($A64-$B64,Bank_Table!$B$3:$E$22,2,FALSE)","v":0},{"$f":"VLOOKUP($A64-$B64,Bank_Table!$B$3:$E$22,3,FALSE)","v":0},{"$f":"VLOOKUP($A64-$B64,Bank_Table!$B$3:$E$22,4,FALSE)","v":0}]
[{"$f":"+MailMerge!D62","v":0},0,{"$f":"+$B65/C$4+VLOOKUP($A65-$B65,Bank_Table!$B$3:$E$22,2,FALSE)","v":0},{"$f":"VLOOKUP($A65-$B65,Bank_Table!$B$3:$E$22,3,FALSE)","v":0},{"$f":"VLOOKUP($A65-$B65,Bank_Table!$B$3:$E$22,4,FALSE)","v":0}]
[{"$f":"+MailMerge!D63","v":0},0,{"$f":"+$B66/C$4+VLOOKUP($A66-$B66,Bank_Table!$B$3:$E$22,2,FALSE)","v":0},{"$f":"VLOOKUP($A66-$B66,Bank_Table!$B$3:$E$22,3,FALSE)","v":0},{"$f":"VLOOKUP($A66-$B66,Bank_Table!$B$3:$E$22,4,FALSE)","v":0}]
[{"$f":"+MailMerge!D64","v":0},0,{"$f":"+$B67/C$4+VLOOKUP($A67-$B67,Bank_Table!$B$3:$E$22,2,FALSE)","v":0},{"$f":"VLOOKUP($A67-$B67,Bank_Table!$B$3:$E$22,3,FALSE)","v":0},{"$f":"VLOOKUP($A67-$B67,Bank_Table!$B$3:$E$22,4,FALSE)","v":0}]
[{"$f":"+MailMerge!D65","v":0},0,{"$f":"+$B68/C$4+VLOOKUP($A68-$B68,Bank_Table!$B$3:$E$22,2,FALSE)","v":0},{"$f":"VLOOKUP($A68-$B68,Bank_Table!$B$3:$E$22,3,FALSE)","v":0},{"$f":"VLOOKUP($A68-$B68,Bank_Table!$B$3:$E$22,4,FALSE)","v":0}]
[{"$f":"+MailMerge!D66","v":0},0,{"$f":"+$B69/C$4+VLOOKUP($A69-$B69,Bank_Table!$B$3:$E$22,2,FALSE)","v":0},{"$f":"VLOOKUP($A69-$B69,Bank_Table!$B$3:$E$22,3,FALSE)","v":0},{"$f":"VLOOKUP($A69-$B69,Bank_Table!$B$3:$E$22,4,FALSE)","v":0}]
[{"$f":"+MailMerge!D67","v":0},{"$f":"INT(A70/B$4)*B$4","v":0},{"$f":"+$B70/C$4+VLOOKUP($A70-$B70,Bank_Table!$B$3:$E$22,2,FALSE)","v":0},{"$f":"VLOOKUP($A70-$B70,Bank_Table!$B$3:$E$22,3,FALSE)","v":0},{"$f":"VLOOKUP($A70-$B70,Bank_Table!$B$3:$E$22,4,FALSE)","v":0}]
[{"$f":"+MailMerge!D68","v":0},0,{"$f":"+$B71/C$4+VLOOKUP($A71-$B71,Bank_Table!$B$3:$E$22,2,FALSE)","v":0},{"$f":"VLOOKUP($A71-$B71,Bank_Table!$B$3:$E$22,3,FALSE)","v":0},{"$f":"VLOOKUP($A71-$B71,Bank_Table!$B$3:$E$22,4,FALSE)","v":0}]
[{"$f":"+MailMerge!D69","v":0},0,{"$f":"+$B72/C$4+VLOOKUP($A72-$B72,Bank_Table!$B$3:$E$22,2,FALSE)","v":0},{"$f":"VLOOKUP($A72-$B72,Bank_Table!$B$3:$E$22,3,FALSE)","v":0},{"$f":"VLOOKUP($A72-$B72,Bank_Table!$B$3:$E$22,4,FALSE)","v":0}]
[{"$f":"+MailMerge!D70","v":0},0,{"$f":"+$B73/C$4+VLOOKUP($A73-$B73,Bank_Table!$B$3:$E$22,2,FALSE)","v":0},{"$f":"VLOOKUP($A73-$B73,Bank_Table!$B$3:$E$22,3,FALSE)","v":0},{"$f":"VLOOKUP($A73-$B73,Bank_Table!$B$3:$E$22,4,FALSE)","v":0}]
[{"$f":"+MailMerge!D71","v":0},0,{"$f":"+$B74/C$4+VLOOKUP($A74-$B74,Bank_Table!$B$3:$E$22,2,FALSE)","v":0},{"$f":"VLOOKUP($A74-$B74,Bank_Table!$B$3:$E$22,3,FALSE)","v":0},{"$f":"VLOOKUP($A74-$B74,Bank_Table!$B$3:$E$22,4,FALSE)","v":0}]
[{"$f":"+MailMerge!D72","v":0},0,{"$f":"+$B75/C$4+VLOOKUP($A75-$B75,Bank_Table!$B$3:$E$22,2,FALSE)","v":0},{"$f":"VLOOKUP($A75-$B75,Bank_Table!$B$3:$E$22,3,FALSE)","v":0},{"$f":"VLOOKUP($A75-$B75,Bank_Table!$B$3:$E$22,4,FALSE)","v":0}]
[{"$f":"+MailMerge!D73","v":0},0,{"$f":"+$B76/C$4+VLOOKUP($A76-$B76,Bank_Table!$B$3:$E$22,2,FALSE)","v":0},{"$f":"VLOOKUP($A76-$B76,Bank_Table!$B$3:$E$22,3,FALSE)","v":0},{"$f":"VLOOKUP($A76-$B76,Bank_Table!$B$3:$E$22,4,FALSE)","v":0}]
[{"$f":"+MailMerge!D74","v":0},0,{"$f":"+$B77/C$4+VLOOKUP($A77-$B77,Bank_Table!$B$3:$E$22,2,FALSE)","v":0},{"$f":"VLOOKUP($A77-$B77,Bank_Table!$B$3:$E$22,3,FALSE)","v":0},{"$f":"VLOOKUP($A77-$B77,Bank_Table!$B$3:$E$22,4,FALSE)","v":0}]
[{"$f":"+MailMerge!D75","v":0},0,{"$f":"+$B78/C$4+VLOOKUP($A78-$B78,Bank_Table!$B$3:$E$22,2,FALSE)","v":0},{"$f":"VLOOKUP($A78-$B78,Bank_Table!$B$3:$E$22,3,FALSE)","v":0},{"$f":"VLOOKUP($A78-$B78,Bank_Table!$B$3:$E$22,4,FALSE)","v":0}]
[{"$f":"+MailMerge!D76","v":0},0,{"$f":"+$B79/C$4+VLOOKUP($A79-$B79,Bank_Table!$B$3:$E$22,2,FALSE)","v":0},{"$f":"VLOOKUP($A79-$B79,Bank_Table!$B$3:$E$22,3,FALSE)","v":0},{"$f":"VLOOKUP($A79-$B79,Bank_Table!$B$3:$E$22,4,FALSE)","v":0}]
[{"$f":"+MailMerge!D77","v":0},0,{"$f":"+$B80/C$4+VLOOKUP($A80-$B80,Bank_Table!$B$3:$E$22,2,FALSE)","v":0},{"$f":"VLOOKUP($A80-$B80,Bank_Table!$B$3:$E$22,3,FALSE)","v":0},{"$f":"VLOOKUP($A80-$B80,Bank_Table!$B$3:$E$22,4,FALSE)","v":0}]
[{"$f":"+MailMerge!D78","v":0},0,{"$f":"+$B81/C$4+VLOOKUP($A81-$B81,Bank_Table!$B$3:$E$22,2,FALSE)","v":0},{"$f":"VLOOKUP($A81-$B81,Bank_Table!$B$3:$E$22,3,FALSE)","v":0},{"$f":"VLOOKUP($A81-$B81,Bank_Table!$B$3:$E$22,4,FALSE)","v":0}]
[{"$f":"+MailMerge!D79","v":0},0,{"$f":"+$B82/C$4+VLOOKUP($A82-$B82,Bank_Table!$B$3:$E$22,2,FALSE)","v":0},{"$f":"VLOOKUP($A82-$B82,Bank_Table!$B$3:$E$22,3,FALSE)","v":0},{"$f":"VLOOKUP($A82-$B82,Bank_Table!$B$3:$E$22,4,FALSE)","v":0}]
[{"$f":"+MailMerge!D80","v":0},0,{"$f":"+$B83/C$4+VLOOKUP($A83-$B83,Bank_Table!$B$3:$E$22,2,FALSE)","v":0},{"$f":"VLOOKUP($A83-$B83,Bank_Table!$B$3:$E$22,3,FALSE)","v":0},{"$f":"VLOOKUP($A83-$B83,Bank_Table!$B$3:$E$22,4,FALSE)","v":0}]
[{"$f":"+MailMerge!D81","v":0},0,{"$f":"+$B84/C$4+VLOOKUP($A84-$B84,Bank_Table!$B$3:$E$22,2,FALSE)","v":0},{"$f":"VLOOKUP($A84-$B84,Bank_Table!$B$3:$E$22,3,FALSE)","v":0},{"$f":"VLOOKUP($A84-$B84,Bank_Table!$B$3:$E$22,4,FALSE)","v":0}]
[{"$f":"+MailMerge!D82","v":0},0,{"$f":"+$B85/C$4+VLOOKUP($A85-$B85,Bank_Table!$B$3:$E$22,2,FALSE)","v":0},{"$f":"VLOOKUP($A85-$B85,Bank_Table!$B$3:$E$22,3,FALSE)","v":0},{"$f":"VLOOKUP($A85-$B85,Bank_Table!$B$3:$E$22,4,FALSE)","v":0}]
[{"$f":"+MailMerge!D83","v":0},0,{"$f":"+$B86/C$4+VLOOKUP($A86-$B86,Bank_Table!$B$3:$E$22,2,FALSE)","v":0},{"$f":"VLOOKUP($A86-$B86,Bank_Table!$B$3:$E$22,3,FALSE)","v":0},{"$f":"VLOOKUP($A86-$B86,Bank_Table!$B$3:$E$22,4,FALSE)","v":0}]
[{"$f":"+MailMerge!D84","v":0},0,{"$f":"+$B87/C$4+VLOOKUP($A87-$B87,Bank_Table!$B$3:$E$22,2,FALSE)","v":0},{"$f":"VLOOKUP($A87-$B87,Bank_Table!$B$3:$E$22,3,FALSE)","v":0},{"$f":"VLOOKUP($A87-$B87,Bank_Table!$B$3:$E$22,4,FALSE)","v":0}]
[{"$f":"+MailMerge!D85","v":0},0,{"$f":"+$B88/C$4+VLOOKUP($A88-$B88,Bank_Table!$B$3:$E$22,2,FALSE)","v":0},{"$f":"VLOOKUP($A88-$B88,Bank_Table!$B$3:$E$22,3,FALSE)","v":0},{"$f":"VLOOKUP($A88-$B88,Bank_Table!$B$3:$E$22,4,FALSE)","v":0}]
[{"$f":"+MailMerge!D86","v":0},0,{"$f":"+$B89/C$4+VLOOKUP($A89-$B89,Bank_Table!$B$3:$E$22,2,FALSE)","v":0},{"$f":"VLOOKUP($A89-$B89,Bank_Table!$B$3:$E$22,3,FALSE)","v":0},{"$f":"VLOOKUP($A89-$B89,Bank_Table!$B$3:$E$22,4,FALSE)","v":0}]
[{"$f":"+MailMerge!D87","v":0},0,{"$f":"+$B90/C$4+VLOOKUP($A90-$B90,Bank_Table!$B$3:$E$22,2,FALSE)","v":0},{"$f":"VLOOKUP($A90-$B90,Bank_Table!$B$3:$E$22,3,FALSE)","v":0},{"$f":"VLOOKUP($A90-$B90,Bank_Table!$B$3:$E$22,4,FALSE)","v":0}]
[{"$f":"+MailMerge!D88","v":0},0,{"$f":"+$B91/C$4+VLOOKUP($A91-$B91,Bank_Table!$B$3:$E$22,2,FALSE)","v":0},{"$f":"VLOOKUP($A91-$B91,Bank_Table!$B$3:$E$22,3,FALSE)","v":0},{"$f":"VLOOKUP($A91-$B91,Bank_Table!$B$3:$E$22,4,FALSE)","v":0}]
[{"$f":"+MailMerge!D89","v":0},0,{"$f":"+$B92/C$4+VLOOKUP($A92-$B92,Bank_Table!$B$3:$E$22,2,FALSE)","v":0},{"$f":"VLOOKUP($A92-$B92,Bank_Table!$B$3:$E$22,3,FALSE)","v":0},{"$f":"VLOOKUP($A92-$B92,Bank_Table!$B$3:$E$22,4,FALSE)","v":0}]
[{"$f":"+MailMerge!D90","v":0},0,{"$f":"+$B93/C$4+VLOOKUP($A93-$B93,Bank_Table!$B$3:$E$22,2,FALSE)","v":0},{"$f":"VLOOKUP($A93-$B93,Bank_Table!$B$3:$E$22,3,FALSE)","v":0},{"$f":"VLOOKUP($A93-$B93,Bank_Table!$B$3:$E$22,4,FALSE)","v":0}]
[{"$f":"+MailMerge!D91","v":0},0,{"$f":"+$B94/C$4+VLOOKUP($A94-$B94,Bank_Table!$B$3:$E$22,2,FALSE)","v":0},{"$f":"VLOOKUP($A94-$B94,Bank_Table!$B$3:$E$22,3,FALSE)","v":0},{"$f":"VLOOKUP($A94-$B94,Bank_Table!$B$3:$E$22,4,FALSE)","v":0}]
[{"$f":"+MailMerge!D92","v":0},0,{"$f":"+$B95/C$4+VLOOKUP($A95-$B95,Bank_Table!$B$3:$E$22,2,FALSE)","v":0},{"$f":"VLOOKUP($A95-$B95,Bank_Table!$B$3:$E$22,3,FALSE)","v":0},{"$f":"VLOOKUP($A95-$B95,Bank_Table!$B$3:$E$22,4,FALSE)","v":0}]
[{"$f":"+MailMerge!D93","v":0},0,{"$f":"+$B96/C$4+VLOOKUP($A96-$B96,Bank_Table!$B$3:$E$22,2,FALSE)","v":0},{"$f":"VLOOKUP($A96-$B96,Bank_Table!$B$3:$E$22,3,FALSE)","v":0},{"$f":"VLOOKUP($A96-$B96,Bank_Table!$B$3:$E$22,4,FALSE)","v":0}]
[{"$f":"+MailMerge!D94","v":0},0,{"$f":"+$B97/C$4+VLOOKUP($A97-$B97,Bank_Table!$B$3:$E$22,2,FALSE)","v":0},{"$f":"VLOOKUP($A97-$B97,Bank_Table!$B$3:$E$22,3,FALSE)","v":0},{"$f":"VLOOKUP($A97-$B97,Bank_Table!$B$3:$E$22,4,FALSE)","v":0}]
[{"$f":"+MailMerge!D95","v":0},0,{"$f":"+$B98/C$4+VLOOKUP($A98-$B98,Bank_Table!$B$3:$E$22,2,FALSE)","v":0},{"$f":"VLOOKUP($A98-$B98,Bank_Table!$B$3:$E$22,3,FALSE)","v":0},{"$f":"VLOOKUP($A98-$B98,Bank_Table!$B$3:$E$22,4,FALSE)","v":0}]
[{"$f":"+MailMerge!D96","v":0},0,{"$f":"+$B99/C$4+VLOOKUP($A99-$B99,Bank_Table!$B$3:$E$22,2,FALSE)","v":0},{"$f":"VLOOKUP($A99-$B99,Bank_Table!$B$3:$E$22,3,FALSE)","v":0},{"$f":"VLOOKUP($A99-$B99,Bank_Table!$B$3:$E$22,4,FALSE)","v":0}]
[{"$f":"+MailMerge!D97","v":0},0,{"$f":"+$B100/C$4+VLOOKUP($A100-$B100,Bank_Table!$B$3:$E$22,2,FALSE)","v":0},{"$f":"VLOOKUP($A100-$B100,Bank_Table!$B$3:$E$22,3,FALSE)","v":0},{"$f":"VLOOKUP($A100-$B100,Bank_Table!$B$3:$E$22,4,FALSE)","v":0}]
[{"$f":"+MailMerge!D98","v":0},0,{"$f":"+$B101/C$4+VLOOKUP($A101-$B101,Bank_Table!$B$3:$E$22,2,FALSE)","v":0},{"$f":"VLOOKUP($A101-$B101,Bank_Table!$B$3:$E$22,3,FALSE)","v":0},{"$f":"VLOOKUP($A101-$B101,Bank_Table!$B$3:$E$22,4,FALSE)","v":0}]
[{"$f":"+MailMerge!D99","v":0},0,{"$f":"+$B102/C$4+VLOOKUP($A102-$B102,Bank_Table!$B$3:$E$22,2,FALSE)","v":0},{"$f":"VLOOKUP($A102-$B102,Bank_Table!$B$3:$E$22,3,FALSE)","v":0},{"$f":"VLOOKUP($A102-$B102,Bank_Table!$B$3:$E$22,4,FALSE)","v":0}]
[{"$f":"+MailMerge!D100","v":0},0,{"$f":"+$B103/C$4+VLOOKUP($A103-$B103,Bank_Table!$B$3:$E$22,2,FALSE)","v":0},{"$f":"VLOOKUP($A103-$B103,Bank_Table!$B$3:$E$22,3,FALSE)","v":0},{"$f":"VLOOKUP($A103-$B103,Bank_Table!$B$3:$E$22,4,FALSE)","v":0}]
[{"$f":"+MailMerge!D101","v":0},0,{"$f":"+$B104/C$4+VLOOKUP($A104-$B104,Bank_Table!$B$3:$E$22,2,FALSE)","v":0},{"$f":"VLOOKUP($A104-$B104,Bank_Table!$B$3:$E$22,3,FALSE)","v":0},{"$f":"VLOOKUP($A104-$B104,Bank_Table!$B$3:$E$22,4,FALSE)","v":0}]
[{"$f":"+MailMerge!D102","v":0},0,{"$f":"+$B105/C$4+VLOOKUP($A105-$B105,Bank_Table!$B$3:$E$22,2,FALSE)","v":0},{"$f":"VLOOKUP($A105-$B105,Bank_Table!$B$3:$E$22,3,FALSE)","v":0},{"$f":"VLOOKUP($A105-$B105,Bank_Table!$B$3:$E$22,4,FALSE)","v":0}]
[{"$f":"+MailMerge!D103","v":0},0,{"$f":"+$B106/C$4+VLOOKUP($A106-$B106,Bank_Table!$B$3:$E$22,2,FALSE)","v":0},{"$f":"VLOOKUP($A106-$B106,Bank_Table!$B$3:$E$22,3,FALSE)","v":0},{"$f":"VLOOKUP($A106-$B106,Bank_Table!$B$3:$E$22,4,FALSE)","v":0}]
[{"$f":"+MailMerge!D104","v":0},0,{"$f":"+$B107/C$4+VLOOKUP($A107-$B107,Bank_Table!$B$3:$E$22,2,FALSE)","v":0},{"$f":"VLOOKUP($A107-$B107,Bank_Table!$B$3:$E$22,3,FALSE)","v":0},{"$f":"VLOOKUP($A107-$B107,Bank_Table!$B$3:$E$22,4,FALSE)","v":0}]
[{"$f":"+MailMerge!D105","v":0},0,{"$f":"+$B108/C$4+VLOOKUP($A108-$B108,Bank_Table!$B$3:$E$22,2,FALSE)","v":0},{"$f":"VLOOKUP($A108-$B108,Bank_Table!$B$3:$E$22,3,FALSE)","v":0},{"$f":"VLOOKUP($A108-$B108,Bank_Table!$B$3:$E$22,4,FALSE)","v":0}]
[{"$f":"+MailMerge!D106","v":0},0,{"$f":"+$B109/C$4+VLOOKUP($A109-$B109,Bank_Table!$B$3:$E$22,2,FALSE)","v":0},{"$f":"VLOOKUP($A109-$B109,Bank_Table!$B$3:$E$22,3,FALSE)","v":0},{"$f":"VLOOKUP($A109-$B109,Bank_Table!$B$3:$E$22,4,FALSE)","v":0}]
[{"$f":"+MailMerge!D107","v":0},0,{"$f":"+$B110/C$4+VLOOKUP($A110-$B110,Bank_Table!$B$3:$E$22,2,FALSE)","v":0},{"$f":"VLOOKUP($A110-$B110,Bank_Table!$B$3:$E$22,3,FALSE)","v":0},{"$f":"VLOOKUP($A110-$B110,Bank_Table!$B$3:$E$22,4,FALSE)","v":0}]
[{"$f":"+MailMerge!D108","v":0},0,{"$f":"+$B111/C$4+VLOOKUP($A111-$B111,Bank_Table!$B$3:$E$22,2,FALSE)","v":0},{"$f":"VLOOKUP($A111-$B111,Bank_Table!$B$3:$E$22,3,FALSE)","v":0},{"$f":"VLOOKUP($A111-$B111,Bank_Table!$B$3:$E$22,4,FALSE)","v":0}]
[{"$f":"+MailMerge!D109","v":0},0,{"$f":"+$B112/C$4+VLOOKUP($A112-$B112,Bank_Table!$B$3:$E$22,2,FALSE)","v":0},{"$f":"VLOOKUP($A112-$B112,Bank_Table!$B$3:$E$22,3,FALSE)","v":0},{"$f":"VLOOKUP($A112-$B112,Bank_Table!$B$3:$E$22,4,FALSE)","v":0}]
[{"$f":"+MailMerge!D110","v":0},0,{"$f":"+$B113/C$4+VLOOKUP($A113-$B113,Bank_Table!$B$3:$E$22,2,FALSE)","v":0},{"$f":"VLOOKUP($A113-$B113,Bank_Table!$B$3:$E$22,3,FALSE)","v":0},{"$f":"VLOOKUP($A113-$B113,Bank_Table!$B$3:$E$22,4,FALSE)","v":0}]
[{"$f":"+MailMerge!D111","v":0},0,{"$f":"+$B114/C$4+VLOOKUP($A114-$B114,Bank_Table!$B$3:$E$22,2,FALSE)","v":0},{"$f":"VLOOKUP($A114-$B114,Bank_Table!$B$3:$E$22,3,FALSE)","v":0},{"$f":"VLOOKUP($A114-$B114,Bank_Table!$B$3:$E$22,4,FALSE)","v":0}]
[{"$f":"+MailMerge!D112","v":0},0,{"$f":"+$B115/C$4+VLOOKUP($A115-$B115,Bank_Table!$B$3:$E$22,2,FALSE)","v":0},{"$f":"VLOOKUP($A115-$B115,Bank_Table!$B$3:$E$22,3,FALSE)","v":0},{"$f":"VLOOKUP($A115-$B115,Bank_Table!$B$3:$E$22,4,FALSE)","v":0}]
[{"$f":"+MailMerge!D113","v":0},0,{"$f":"+$B116/C$4+VLOOKUP($A116-$B116,Bank_Table!$B$3:$E$22,2,FALSE)","v":0},{"$f":"VLOOKUP($A116-$B116,Bank_Table!$B$3:$E$22,3,FALSE)","v":0},{"$f":"VLOOKUP($A116-$B116,Bank_Table!$B$3:$E$22,4,FALSE)","v":0}]
[{"$f":"+MailMerge!D114","v":0},0,{"$f":"+$B117/C$4+VLOOKUP($A117-$B117,Bank_Table!$B$3:$E$22,2,FALSE)","v":0},{"$f":"VLOOKUP($A117-$B117,Bank_Table!$B$3:$E$22,3,FALSE)","v":0},{"$f":"VLOOKUP($A117-$B117,Bank_Table!$B$3:$E$22,4,FALSE)","v":0}]
[{"$f":"+MailMerge!D115","v":0},0,{"$f":"+$B118/C$4+VLOOKUP($A118-$B118,Bank_Table!$B$3:$E$22,2,FALSE)","v":0},{"$f":"VLOOKUP($A118-$B118,Bank_Table!$B$3:$E$22,3,FALSE)","v":0},{"$f":"VLOOKUP($A118-$B118,Bank_Table!$B$3:$E$22,4,FALSE)","v":0}]
[{"$f":"+MailMerge!D116","v":0},0,{"$f":"+$B119/C$4+VLOOKUP($A119-$B119,Bank_Table!$B$3:$E$22,2,FALSE)","v":0},{"$f":"VLOOKUP($A119-$B119,Bank_Table!$B$3:$E$22,3,FALSE)","v":0},{"$f":"VLOOKUP($A119-$B119,Bank_Table!$B$3:$E$22,4,FALSE)","v":0}]
[{"$f":"+MailMerge!D117","v":0},0,{"$f":"+$B120/C$4+VLOOKUP($A120-$B120,Bank_Table!$B$3:$E$22,2,FALSE)","v":0},{"$f":"VLOOKUP($A120-$B120,Bank_Table!$B$3:$E$22,3,FALSE)","v":0},{"$f":"VLOOKUP($A120-$B120,Bank_Table!$B$3:$E$22,4,FALSE)","v":0}]
[{"$f":"+MailMerge!D118","v":0},0,{"$f":"+$B121/C$4+VLOOKUP($A121-$B121,Bank_Table!$B$3:$E$22,2,FALSE)","v":0},{"$f":"VLOOKUP($A121-$B121,Bank_Table!$B$3:$E$22,3,FALSE)","v":0},{"$f":"VLOOKUP($A121-$B121,Bank_Table!$B$3:$E$22,4,FALSE)","v":0}]
[{"$f":"+MailMerge!D119","v":0},0,{"$f":"+$B122/C$4+VLOOKUP($A122-$B122,Bank_Table!$B$3:$E$22,2,FALSE)","v":0},{"$f":"VLOOKUP($A122-$B122,Bank_Table!$B$3:$E$22,3,FALSE)","v":0},{"$f":"VLOOKUP($A122-$B122,Bank_Table!$B$3:$E$22,4,FALSE)","v":0}]
[{"$f":"+MailMerge!D120","v":0},0,{"$f":"+$B123/C$4+VLOOKUP($A123-$B123,Bank_Table!$B$3:$E$22,2,FALSE)","v":0},{"$f":"VLOOKUP($A123-$B123,Bank_Table!$B$3:$E$22,3,FALSE)","v":0},{"$f":"VLOOKUP($A123-$B123,Bank_Table!$B$3:$E$22,4,FALSE)","v":0}]
[{"$f":"+MailMerge!D121","v":0},0,{"$f":"+$B124/C$4+VLOOKUP($A124-$B124,Bank_Table!$B$3:$E$22,2,FALSE)","v":0},{"$f":"VLOOKUP($A124-$B124,Bank_Table!$B$3:$E$22,3,FALSE)","v":0},{"$f":"VLOOKUP($A124-$B124,Bank_Table!$B$3:$E$22,4,FALSE)","v":0}]
[{"$f":"+MailMerge!D122","v":0},0,{"$f":"+$B125/C$4+VLOOKUP($A125-$B125,Bank_Table!$B$3:$E$22,2,FALSE)","v":0},{"$f":"VLOOKUP($A125-$B125,Bank_Table!$B$3:$E$22,3,FALSE)","v":0},{"$f":"VLOOKUP($A125-$B125,Bank_Table!$B$3:$E$22,4,FALSE)","v":0}]
[{"$f":"+MailMerge!D123","v":0},0,{"$f":"+$B126/C$4+VLOOKUP($A126-$B126,Bank_Table!$B$3:$E$22,2,FALSE)","v":0},{"$f":"VLOOKUP($A126-$B126,Bank_Table!$B$3:$E$22,3,FALSE)","v":0},{"$f":"VLOOKUP($A126-$B126,Bank_Table!$B$3:$E$22,4,FALSE)","v":0}]
[{"$f":"+MailMerge!D124","v":0},0,{"$f":"+$B127/C$4+VLOOKUP($A127-$B127,Bank_Table!$B$3:$E$22,2,FALSE)","v":0},{"$f":"VLOOKUP($A127-$B127,Bank_Table!$B$3:$E$22,3,FALSE)","v":0},{"$f":"VLOOKUP($A127-$B127,Bank_Table!$B$3:$E$22,4,FALSE)","v":0}]
[{"$f":"+MailMerge!D125","v":0},0,{"$f":"+$B128/C$4+VLOOKUP($A128-$B128,Bank_Table!$B$3:$E$22,2,FALSE)","v":0},{"$f":"VLOOKUP($A128-$B128,Bank_Table!$B$3:$E$22,3,FALSE)","v":0},{"$f":"VLOOKUP($A128-$B128,Bank_Table!$B$3:$E$22,4,FALSE)","v":0}]
[{"$f":"+MailMerge!D126","v":0},0,{"$f":"+$B129/C$4+VLOOKUP($A129-$B129,Bank_Table!$B$3:$E$22,2,FALSE)","v":0},{"$f":"VLOOKUP($A129-$B129,Bank_Table!$B$3:$E$22,3,FALSE)","v":0},{"$f":"VLOOKUP($A129-$B129,Bank_Table!$B$3:$E$22,4,FALSE)","v":0}]
[{"$f":"+MailMerge!D127","v":0},0,{"$f":"+$B130/C$4+VLOOKUP($A130-$B130,Bank_Table!$B$3:$E$22,2,FALSE)","v":0},{"$f":"VLOOKUP($A130-$B130,Bank_Table!$B$3:$E$22,3,FALSE)","v":0},{"$f":"VLOOKUP($A130-$B130,Bank_Table!$B$3:$E$22,4,FALSE)","v":0}]
[{"$f":"+MailMerge!D128","v":0},0,{"$f":"+$B131/C$4+VLOOKUP($A131-$B131,Bank_Table!$B$3:$E$22,2,FALSE)","v":0},{"$f":"VLOOKUP($A131-$B131,Bank_Table!$B$3:$E$22,3,FALSE)","v":0},{"$f":"VLOOKUP($A131-$B131,Bank_Table!$B$3:$E$22,4,FALSE)","v":0}]
[{"$f":"+MailMerge!D129","v":0},0,{"$f":"+$B132/C$4+VLOOKUP($A132-$B132,Bank_Table!$B$3:$E$22,2,FALSE)","v":0},{"$f":"VLOOKUP($A132-$B132,Bank_Table!$B$3:$E$22,3,FALSE)","v":0},{"$f":"VLOOKUP($A132-$B132,Bank_Table!$B$3:$E$22,4,FALSE)","v":0}]
[{"$f":"+MailMerge!D130","v":0},0,{"$f":"+$B133/C$4+VLOOKUP($A133-$B133,Bank_Table!$B$3:$E$22,2,FALSE)","v":0},{"$f":"VLOOKUP($A133-$B133,Bank_Table!$B$3:$E$22,3,FALSE)","v":0},{"$f":"VLOOKUP($A133-$B133,Bank_Table!$B$3:$E$22,4,FALSE)","v":0}]
[{"$f":"+MailMerge!D131","v":0},{"$f":"INT(A134/B$4)*B$4","v":0},{"$f":"+$B134/C$4+VLOOKUP($A134-$B134,Bank_Table!$B$3:$E$22,2,FALSE)","v":0},{"$f":"VLOOKUP($A134-$B134,Bank_Table!$B$3:$E$22,3,FALSE)","v":0},{"$f":"VLOOKUP($A134-$B134,Bank_Table!$B$3:$E$22,4,FALSE)","v":0}]
[{"$f":"+MailMerge!D132","v":0},0,{"$f":"+$B135/C$4+VLOOKUP($A135-$B135,Bank_Table!$B$3:$E$22,2,FALSE)","v":0},{"$f":"VLOOKUP($A135-$B135,Bank_Table!$B$3:$E$22,3,FALSE)","v":0},{"$f":"VLOOKUP($A135-$B135,Bank_Table!$B$3:$E$22,4,FALSE)","v":0}]
[{"$f":"+MailMerge!D133","v":0},0,{"$f":"+$B136/C$4+VLOOKUP($A136-$B136,Bank_Table!$B$3:$E$22,2,FALSE)","v":0},{"$f":"VLOOKUP($A136-$B136,Bank_Table!$B$3:$E$22,3,FALSE)","v":0},{"$f":"VLOOKUP($A136-$B136,Bank_Table!$B$3:$E$22,4,FALSE)","v":0}]
[{"$f":"+MailMerge!D134","v":0},0,{"$f":"+$B137/C$4+VLOOKUP($A137-$B137,Bank_Table!$B$3:$E$22,2,FALSE)","v":0},{"$f":"VLOOKUP($A137-$B137,Bank_Table!$B$3:$E$22,3,FALSE)","v":0},{"$f":"VLOOKUP($A137-$B137,Bank_Table!$B$3:$E$22,4,FALSE)","v":0}]
[{"$f":"+MailMerge!D135","v":0},0,{"$f":"+$B138/C$4+VLOOKUP($A138-$B138,Bank_Table!$B$3:$E$22,2,FALSE)","v":0},{"$f":"VLOOKUP($A138-$B138,Bank_Table!$B$3:$E$22,3,FALSE)","v":0},{"$f":"VLOOKUP($A138-$B138,Bank_Table!$B$3:$E$22,4,FALSE)","v":0}]
[{"$f":"+MailMerge!D136","v":0},0,{"$f":"+$B139/C$4+VLOOKUP($A139-$B139,Bank_Table!$B$3:$E$22,2,FALSE)","v":0},{"$f":"VLOOKUP($A139-$B139,Bank_Table!$B$3:$E$22,3,FALSE)","v":0},{"$f":"VLOOKUP($A139-$B139,Bank_Table!$B$3:$E$22,4,FALSE)","v":0}]
[{"$f":"+MailMerge!D137","v":0},0,{"$f":"+$B140/C$4+VLOOKUP($A140-$B140,Bank_Table!$B$3:$E$22,2,FALSE)","v":0},{"$f":"VLOOKUP($A140-$B140,Bank_Table!$B$3:$E$22,3,FALSE)","v":0},{"$f":"VLOOKUP($A140-$B140,Bank_Table!$B$3:$E$22,4,FALSE)","v":0}]
[{"$f":"+MailMerge!D138","v":0},0,{"$f":"+$B141/C$4+VLOOKUP($A141-$B141,Bank_Table!$B$3:$E$22,2,FALSE)","v":0},{"$f":"VLOOKUP($A141-$B141,Bank_Table!$B$3:$E$22,3,FALSE)","v":0},{"$f":"VLOOKUP($A141-$B141,Bank_Table!$B$3:$E$22,4,FALSE)","v":0}]
[{"$f":"+MailMerge!D139","v":0},0,{"$f":"+$B142/C$4+VLOOKUP($A142-$B142,Bank_Table!$B$3:$E$22,2,FALSE)","v":0},{"$f":"VLOOKUP($A142-$B142,Bank_Table!$B$3:$E$22,3,FALSE)","v":0},{"$f":"VLOOKUP($A142-$B142,Bank_Table!$B$3:$E$22,4,FALSE)","v":0}]
[{"$f":"+MailMerge!D140","v":0},0,{"$f":"+$B143/C$4+VLOOKUP($A143-$B143,Bank_Table!$B$3:$E$22,2,FALSE)","v":0},{"$f":"VLOOKUP($A143-$B143,Bank_Table!$B$3:$E$22,3,FALSE)","v":0},{"$f":"VLOOKUP($A143-$B143,Bank_Table!$B$3:$E$22,4,FALSE)","v":0}]
[{"$f":"+MailMerge!D141","v":0},0,{"$f":"+$B144/C$4+VLOOKUP($A144-$B144,Bank_Table!$B$3:$E$22,2,FALSE)","v":0},{"$f":"VLOOKUP($A144-$B144,Bank_Table!$B$3:$E$22,3,FALSE)","v":0},{"$f":"VLOOKUP($A144-$B144,Bank_Table!$B$3:$E$22,4,FALSE)","v":0}]
[{"$f":"+MailMerge!D142","v":0},0,{"$f":"+$B145/C$4+VLOOKUP($A145-$B145,Bank_Table!$B$3:$E$22,2,FALSE)","v":0},{"$f":"VLOOKUP($A145-$B145,Bank_Table!$B$3:$E$22,3,FALSE)","v":0},{"$f":"VLOOKUP($A145-$B145,Bank_Table!$B$3:$E$22,4,FALSE)","v":0}]
[{"$f":"+MailMerge!D143","v":0},0,{"$f":"+$B146/C$4+VLOOKUP($A146-$B146,Bank_Table!$B$3:$E$22,2,FALSE)","v":0},{"$f":"VLOOKUP($A146-$B146,Bank_Table!$B$3:$E$22,3,FALSE)","v":0},{"$f":"VLOOKUP($A146-$B146,Bank_Table!$B$3:$E$22,4,FALSE)","v":0}]
[{"$f":"+MailMerge!D144","v":0},0,{"$f":"+$B147/C$4+VLOOKUP($A147-$B147,Bank_Table!$B$3:$E$22,2,FALSE)","v":0},{"$f":"VLOOKUP($A147-$B147,Bank_Table!$B$3:$E$22,3,FALSE)","v":0},{"$f":"VLOOKUP($A147-$B147,Bank_Table!$B$3:$E$22,4,FALSE)","v":0}]
[{"$f":"+MailMerge!D145","v":0},0,{"$f":"+$B148/C$4+VLOOKUP($A148-$B148,Bank_Table!$B$3:$E$22,2,FALSE)","v":0},{"$f":"VLOOKUP($A148-$B148,Bank_Table!$B$3:$E$22,3,FALSE)","v":0},{"$f":"VLOOKUP($A148-$B148,Bank_Table!$B$3:$E$22,4,FALSE)","v":0}]
[{"$f":"+MailMerge!D146","v":0},0,{"$f":"+$B149/C$4+VLOOKUP($A149-$B149,Bank_Table!$B$3:$E$22,2,FALSE)","v":0},{"$f":"VLOOKUP($A149-$B149,Bank_Table!$B$3:$E$22,3,FALSE)","v":0},{"$f":"VLOOKUP($A149-$B149,Bank_Table!$B$3:$E$22,4,FALSE)","v":0}]
[{"$f":"+MailMerge!D147","v":0},0,{"$f":"+$B150/C$4+VLOOKUP($A150-$B150,Bank_Table!$B$3:$E$22,2,FALSE)","v":0},{"$f":"VLOOKUP($A150-$B150,Bank_Table!$B$3:$E$22,3,FALSE)","v":0},{"$f":"VLOOKUP($A150-$B150,Bank_Table!$B$3:$E$22,4,FALSE)","v":0}]
[{"$f":"+MailMerge!D148","v":0},0,{"$f":"+$B151/C$4+VLOOKUP($A151-$B151,Bank_Table!$B$3:$E$22,2,FALSE)","v":0},{"$f":"VLOOKUP($A151-$B151,Bank_Table!$B$3:$E$22,3,FALSE)","v":0},{"$f":"VLOOKUP($A151-$B151,Bank_Table!$B$3:$E$22,4,FALSE)","v":0}]
[{"$f":"+MailMerge!D149","v":0},0,{"$f":"+$B152/C$4+VLOOKUP($A152-$B152,Bank_Table!$B$3:$E$22,2,FALSE)","v":0},{"$f":"VLOOKUP($A152-$B152,Bank_Table!$B$3:$E$22,3,FALSE)","v":0},{"$f":"VLOOKUP($A152-$B152,Bank_Table!$B$3:$E$22,4,FALSE)","v":0}]
[{"$f":"+MailMerge!D150","v":0},0,{"$f":"+$B153/C$4+VLOOKUP($A153-$B153,Bank_Table!$B$3:$E$22,2,FALSE)","v":0},{"$f":"VLOOKUP($A153-$B153,Bank_Table!$B$3:$E$22,3,FALSE)","v":0},{"$f":"VLOOKUP($A153-$B153,Bank_Table!$B$3:$E$22,4,FALSE)","v":0}]
[{"$f":"+MailMerge!D151","v":0},0,{"$f":"+$B154/C$4+VLOOKUP($A154-$B154,Bank_Table!$B$3:$E$22,2,FALSE)","v":0},{"$f":"VLOOKUP($A154-$B154,Bank_Table!$B$3:$E$22,3,FALSE)","v":0},{"$f":"VLOOKUP($A154-$B154,Bank_Table!$B$3:$E$22,4,FALSE)","v":0}]
[{"$f":"+MailMerge!D152","v":0},0,{"$f":"+$B155/C$4+VLOOKUP($A155-$B155,Bank_Table!$B$3:$E$22,2,FALSE)","v":0},{"$f":"VLOOKUP($A155-$B155,Bank_Table!$B$3:$E$22,3,FALSE)","v":0},{"$f":"VLOOKUP($A155-$B155,Bank_Table!$B$3:$E$22,4,FALSE)","v":0}]
[{"$f":"+MailMerge!D153","v":0},0,{"$f":"+$B156/C$4+VLOOKUP($A156-$B156,Bank_Table!$B$3:$E$22,2,FALSE)","v":0},{"$f":"VLOOKUP($A156-$B156,Bank_Table!$B$3:$E$22,3,FALSE)","v":0},{"$f":"VLOOKUP($A156-$B156,Bank_Table!$B$3:$E$22,4,FALSE)","v":0}]
[{"$f":"+MailMerge!D154","v":0},0,{"$f":"+$B157/C$4+VLOOKUP($A157-$B157,Bank_Table!$B$3:$E$22,2,FALSE)","v":0},{"$f":"VLOOKUP($A157-$B157,Bank_Table!$B$3:$E$22,3,FALSE)","v":0},{"$f":"VLOOKUP($A157-$B157,Bank_Table!$B$3:$E$22,4,FALSE)","v":0}]
[{"$f":"+MailMerge!D155","v":0},0,{"$f":"+$B158/C$4+VLOOKUP($A158-$B158,Bank_Table!$B$3:$E$22,2,FALSE)","v":0},{"$f":"VLOOKUP($A158-$B158,Bank_Table!$B$3:$E$22,3,FALSE)","v":0},{"$f":"VLOOKUP($A158-$B158,Bank_Table!$B$3:$E$22,4,FALSE)","v":0}]
[{"$f":"+MailMerge!D156","v":0},0,{"$f":"+$B159/C$4+VLOOKUP($A159-$B159,Bank_Table!$B$3:$E$22,2,FALSE)","v":0},{"$f":"VLOOKUP($A159-$B159,Bank_Table!$B$3:$E$22,3,FALSE)","v":0},{"$f":"VLOOKUP($A159-$B159,Bank_Table!$B$3:$E$22,4,FALSE)","v":0}]
[{"$f":"+MailMerge!D157","v":0},0,{"$f":"+$B160/C$4+VLOOKUP($A160-$B160,Bank_Table!$B$3:$E$22,2,FALSE)","v":0},{"$f":"VLOOKUP($A160-$B160,Bank_Table!$B$3:$E$22,3,FALSE)","v":0},{"$f":"VLOOKUP($A160-$B160,Bank_Table!$B$3:$E$22,4,FALSE)","v":0}]
[{"$f":"+MailMerge!D158","v":0},0,{"$f":"+$B161/C$4+VLOOKUP($A161-$B161,Bank_Table!$B$3:$E$22,2,FALSE)","v":0},{"$f":"VLOOKUP($A161-$B161,Bank_Table!$B$3:$E$22,3,FALSE)","v":0},{"$f":"VLOOKUP($A161-$B161,Bank_Table!$B$3:$E$22,4,FALSE)","v":0}]
[{"$f":"+MailMerge!D159","v":0},0,{"$f":"+$B162/C$4+VLOOKUP($A162-$B162,Bank_Table!$B$3:$E$22,2,FALSE)","v":0},{"$f":"VLOOKUP($A162-$B162,Bank_Table!$B$3:$E$22,3,FALSE)","v":0},{"$f":"VLOOKUP($A162-$B162,Bank_Table!$B$3:$E$22,4,FALSE)","v":0}]
[{"$f":"+MailMerge!D160","v":0},0,{"$f":"+$B163/C$4+VLOOKUP($A163-$B163,Bank_Table!$B$3:$E$22,2,FALSE)","v":0},{"$f":"VLOOKUP($A163-$B163,Bank_Table!$B$3:$E$22,3,FALSE)","v":0},{"$f":"VLOOKUP($A163-$B163,Bank_Table!$B$3:$E$22,4,FALSE)","v":0}]
[{"$f":"+MailMerge!D161","v":0},0,{"$f":"+$B164/C$4+VLOOKUP($A164-$B164,Bank_Table!$B$3:$E$22,2,FALSE)","v":0},{"$f":"VLOOKUP($A164-$B164,Bank_Table!$B$3:$E$22,3,FALSE)","v":0},{"$f":"VLOOKUP($A164-$B164,Bank_Table!$B$3:$E$22,4,FALSE)","v":0}]
[{"$f":"+MailMerge!D162","v":0},0,{"$f":"+$B165/C$4+VLOOKUP($A165-$B165,Bank_Table!$B$3:$E$22,2,FALSE)","v":0},{"$f":"VLOOKUP($A165-$B165,Bank_Table!$B$3:$E$22,3,FALSE)","v":0},{"$f":"VLOOKUP($A165-$B165,Bank_Table!$B$3:$E$22,4,FALSE)","v":0}]
[{"$f":"+MailMerge!D163","v":0},0,{"$f":"+$B166/C$4+VLOOKUP($A166-$B166,Bank_Table!$B$3:$E$22,2,FALSE)","v":0},{"$f":"VLOOKUP($A166-$B166,Bank_Table!$B$3:$E$22,3,FALSE)","v":0},{"$f":"VLOOKUP($A166-$B166,Bank_Table!$B$3:$E$22,4,FALSE)","v":0}]
[{"$f":"+MailMerge!D164","v":0},0,{"$f":"+$B167/C$4+VLOOKUP($A167-$B167,Bank_Table!$B$3:$E$22,2,FALSE)","v":0},{"$f":"VLOOKUP($A167-$B167,Bank_Table!$B$3:$E$22,3,FALSE)","v":0},{"$f":"VLOOKUP($A167-$B167,Bank_Table!$B$3:$E$22,4,FALSE)","v":0}]
[{"$f":"+MailMerge!D165","v":0},0,{"$f":"+$B168/C$4+VLOOKUP($A168-$B168,Bank_Table!$B$3:$E$22,2,FALSE)","v":0},{"$f":"VLOOKUP($A168-$B168,Bank_Table!$B$3:$E$22,3,FALSE)","v":0},{"$f":"VLOOKUP($A168-$B168,Bank_Table!$B$3:$E$22,4,FALSE)","v":0}]
[{"$f":"+MailMerge!D166","v":0},0,{"$f":"+$B169/C$4+VLOOKUP($A169-$B169,Bank_Table!$B$3:$E$22,2,FALSE)","v":0},{"$f":"VLOOKUP($A169-$B169,Bank_Table!$B$3:$E$22,3,FALSE)","v":0},{"$f":"VLOOKUP($A169-$B169,Bank_Table!$B$3:$E$22,4,FALSE)","v":0}]